Workbook

Sheet Sažetak
A1: Na temelju članka 38. zakona o proračunu ("Narodne novine" broj 144/21), članka 36. Zakona o ustanovama ( Narodne novine: 76/93, 29/97, 47/99, 35/08, 127/19 i 151/22) i članka 54. Statuta Dječjeg vrtića Bregunica Novo Virje, Upravno vijeće Dječjeg vrtića Bregunica na 6. sjednici održanoj 29. prosinca 2025. godine donijelo je
A3: FINANCIJSKI PLAN DJEČJEG VRTIĆA BREGUNICA ZA 2026. I PROJEKCIJE ZA 2027. I 2028. GODINU
A5: I. OPĆI DIO
A7: Članak 1.
A9: A) SAŽETAK RAČUNA PRIHODA I RASHODA
A11: RAZRED I NAZIV | F11: IZVRŠENJE 2024. | G11: PLAN 2025. | H11: PRORAČUN 2026. | I11: PROJEKCIJA 2027. | J11: PROJEKCIJA 2028.
A12: 1 | F12: 2 | G12: 3 | H12: 4 | I12: 5 | J12: 6
A13: PRIHODI UKUPNO | F13: =F14+F15 -> 166358.97 | G13: =G14+G15 -> 241979.34 | H13: =H14+H15 -> 260210 | I13: =I14+I15 -> 253550 | J13: =J14+J15 -> 260600
A14: 6 PRIHODI POSLOVANJA | F14: =' Račun prihoda i rashoda'!C9 -> 166358.97 | G14: =' Račun prihoda i rashoda'!D9 -> 241979.34 | H14: =' Račun prihoda i rashoda'!E9 -> 260210 | I14: =' Račun prihoda i rashoda'!F9 -> 253550 | J14: =' Račun prihoda i rashoda'!G9 -> 260600
A15: 7 PRIHODI OD PRODAJE NEFINANCIJSKE IMOVINE | F15: =' Račun prihoda i rashoda'!C14 -> 0 | G15: =' Račun prihoda i rashoda'!D14 -> 0 | H15: =' Račun prihoda i rashoda'!E14 -> 0 | I15: =' Račun prihoda i rashoda'!F14 -> 0 | J15: =' Račun prihoda i rashoda'!G14 -> 0
A16: RASHODI UKUPNO | F16: =F17+F18 -> 161394.71 | G16: =G17+G18 -> 233300 | H16: =H17+H18 -> 257210 | I16: =I17+I18 -> 253550 | J16: =J17+J18 -> 260600
A17: 3 RASHODI POSLOVANJA | F17: =' Račun prihoda i rashoda'!C21 -> 161018.46 | G17: =' Račun prihoda i rashoda'!D21 -> 228300 | H17: =' Račun prihoda i rashoda'!E21 -> 247210 | I17: =' Račun prihoda i rashoda'!F21 -> 251550 | J17: =' Račun prihoda i rashoda'!G21 -> 257600
A18: 4 RASHODI ZA NABAVU NEFINANCIJSKE IMOVINE | F18: =' Račun prihoda i rashoda'!C25 -> 376.25 | G18: =' Račun prihoda i rashoda'!D25 -> 5000 | H18: =' Račun prihoda i rashoda'!E25 -> 10000 | I18: =' Račun prihoda i rashoda'!F25 -> 2000 | J18: =' Račun prihoda i rashoda'!G25 -> 3000
A19: RAZLIKA - VIŠAK / MANJAK | F19: =F13-F16 -> 4964.26 | G19: =G13-G16 -> 8679.34 | H19: =H13-H16 -> 3000 | I19: =I13-I16 -> 0 | J19: =J13-J16 -> 0
A21: B) SAŽETAK RAČUNA FINANCIRANJA
A23: RAZRED I NAZIV | F23: IZVRŠENJE 2024. | G23: PLAN 2025. | H23: PRORAČUN 2026. | I23: PROJEKCIJA 2027. | J23: PROJEKCIJA 2028.
A24: 1 | F24: 2 | G24: 3 | H24: 4 | I24: 5 | J24: 6
A25: 8 PRIMICI OD FINANCIJSKE IMOVINE I ZADUŽIVANJA
A26: 5 IZDACI ZA FINANCIJSKU IMOVINU I OTPLATE ZAJMOVA
A27: NETO FINANCIRANJE | F27: =F25-F26 -> 0 | G27: =G25-G26 -> 0 | H27: =H25-H26 -> 0 | I27: =I25-I26 -> 0 | J27: =J25-J26 -> 0
A28: VIŠAK / MANJAK + NETO FINANCIRANJE | F28: =F19+F27 -> 4964.26 | G28: =G19+G27 -> 8679.34 | H28: =H19+H27 -> 3000 | I28: =I19+I27 -> 0 | J28: =J19+J27 -> 0
A30: C) PRENESENI VIŠAK ILI PRENESENI MANJAK
A32: NAZIV | F32: IZVRŠENJE 2024. | G32: PLAN 2025. | H32: PRORAČUN 2026. | I32: PROJEKCIJA 2027. | J32: PROJEKCIJA 2028.
A33: 1 | F33: 2 | G33: 3 | H33: 4 | I33: 5 | J33: 6
A34: PRIJENOS VIŠKA / MANJKA IZ PRETHODNE(IH) GODINE | F34: -8679.34 | G34: -8679.34 | H34: -3000 | I34: 0 | J34: 0
A35: PRIJENOS VIŠKA / MANJKA U SLJEDEĆE RAZDOBLJE | F35: =F28+F34 -> -3715.08 | G35: =G28+G34 -> 0 | H35: =H28+H34 -> 0 | I35: =I28+I34 -> 0 | J35: =J28+J34 -> 0
A36: VIŠAK / MANJAK + NETO FINANCIRANJE + PRIJENOS VIŠKA / MANJKA IZ PRETHODNE(IH) GODINE - PRIJENOS VIŠKA / MANJKA U SLJEDEĆE RAZDOBLJE | F36: =F19+F27+F34-F35 -> 0 | G36: =G19+G27+G34-G35 -> -3.6379788e-12 | H36: =H19+H27+H34-H35 -> 0 | I36: =I19+I27+I34-I35 -> 0 | J36: =J19+J27+J34-J35 -> 0
A38: D) VIŠEGODIŠNJI PLAN URAVNOTEŽENJA
A40: NAZIV | F40: IZVRŠENJE 2024. | G40: PLAN 2025. | H40: PRORAČUN 2026. | I40: PROJEKCIJA 2027. | J40: PROJEKCIJA 2028.
A41: 1 | F41: 2 | G41: 3 | H41: 4 | I41: 5 | J41: 6
A42: PRIJENOS VIŠKA / MANJKA IZ PRETHODNE(IH) GODINE | F42: 0 | G42: =F45 -> 0 | H42: =G45 -> 0 | I42: =H45 -> 0 | J42: =I45 -> 0
A43: VIŠAK / MANJAK IZ PRETHODNE(IH) GODINE KOJI ĆE SE RASPOREDITI / POKRITI | F43: 0 | G43: 0 | H43: 0 | I43: 0 | J43: 0
A44: VIŠAK / MANJAK TEKUĆE GODINE (VIŠAK / MANJAK + NETO FINANCIRANJE) | F44: 0 | G44: 0 | H44: 0 | I44: 0 | J44: 0
A45: PRIJENOS VIŠKA / MANJKA U SLJEDEĆE RAZDOBLJE | F45: =F42-F43+F44 -> 0 | G45: =G42-G43+G44 -> 0 | H45: =H42-H43+H44 -> 0 | I45: =I42-I43+I44 -> 0 | J45: =J42-J43+J44 -> 0

Sheet  Račun prihoda i rashoda
A2: A. RAČUN PRIHODA I RASHODA
A4: A1. PRIHODI I RASHODI PREMA EKONOMSKOJ KLASIFIKACIJI
A6: Razred/ skupina | B6: NAZIV | C6: IZVRŠENJE 2024. | D6: PLAN 2025. | E6: PRORAČUN 2026. | F6: PROJEKCIJA 2027. | G6: PROJEKCIJA 2028.
A7: 1 | B7: 2 | C7: 3 | D7: 4 | E7: 5 | F7: 6 | G7: 7
B8: UKUPNO PRIHODI | C8: =C9+C14 -> 166358.97 | D8: =D9+D14 -> 241979.34 | E8: =E9+E14 -> 260210 | F8: =F9+F14 -> 253550 | G8: =G9+G14 -> 260600
A9: 6 | B9: Prihodi poslovanja | C9: =C10+C11+C12+C13 -> 166358.97 | D9: =D10+D11+D12+D13 -> 241979.34 | E9: =E10+E11+E12+E13 -> 260210 | F9: =F10+F11+F12+F13 -> 253550 | G9: =G10+G11+G12+G13 -> 260600
A10: 63 | B10: Pomoći iz inozemstva i od subjekata unutar općeg proračuna | C10: 259.2 | D10: 360 | E10: 450 | F10: 300 | G10: 250
A11: 65 | B11: Prihodi od upravnih i administrativnih pristojbi, pristojbi po posebnim propisima i naknadama | C11: 25883.14 | D11: 30680 | E11: 37100 | F11: 39000 | G11: 40000
A12: 66 | B12: Prihodi od prodaje proizvoda i robe te pruženih usluga, prihodi od donacija te povrati po protestiranim jamstvima | C12: 46.64 | D12: 30 | E12: 50 | F12: 40 | G12: 40
A13: 67 | B13: Prihodi iz nadležnog proračuna i od HZZO-a temeljem ugovornih obveza | C13: 140169.99 | D13: 210909.34 | E13: 222610 | F13: 214210 | G13: 220310
A14: 7 | B14: Prihodi od prodaje nefinancijske imovine
A15: 72 | B15: Prihodi od prodaje proizvedene dugotrajne imovine
A16: …
A18: Razred/ skupina | B18: NAZIV | C18: IZVRŠENJE 2024. | D18: PLAN 2025. | E18: PRORAČUN 2026. | F18: PROJEKCIJA 2027. | G18: PROJEKCIJA 2028.
A19: 1 | B19: 2 | C19: 3 | D19: 4 | E19: 5 | F19: 6 | G19: 7
B20: UKUPNO RASHODI | C20: =C21+C25 -> 161394.71 | D20: =D21+D25 -> 233300 | E20: =E21+E25 -> 257210 | F20: =F21+F25 -> 253550 | G20: =G21+G25 -> 260600
A21: 3 | B21: Rashodi poslovanja | C21: =C22+C23+C24 -> 161018.46 | D21: =D22+D23+D24 -> 228300 | E21: =E22+E23+E24 -> 247210 | F21: =F22+F23+F24 -> 251550 | G21: =G22+G23+G24 -> 257600
A22: 31 | B22: Rashodi za zaposlene | C22: 130728.05 | D22: 180060 | E22: 195710 | F22: 201000 | G22: 205000
A23: 32 | B23: Materijalni rashodi | C23: 29621.2 | D23: 47480 | E23: 50000 | F23: 49000 | G23: 51000
A24: 34 | B24: Financijski rashodi | C24: 669.21 | D24: 760 | E24: 1500 | F24: 1550 | G24: 1600
A25: 4 | B25: Rashodi za nabavu nefinancijske imovine | C25: =C26 -> 376.25 | D25: =D26 -> 5000 | E25: =E26 -> 10000 | F25: =F26 -> 2000 | G25: =G26 -> 3000
A26: 42 | B26: Rashodi za nabavu proizvedene dugotrajne imovine | C26: 376.25 | D26: 5000 | E26: 10000 | F26: 2000 | G26: 3000
A27: …
A30: A2. PRIHODI I RASHODI PREMA IZVORIMA FINANCIRANJA
A32: Razred/ skupina | B32: NAZIV | C32: IZVRŠENJE 2024. | D32: PLAN 2025. | E32: PRORAČUN 2026. | F32: PROJEKCIJA 2027. | G32: PROJEKCIJA 2028.
A33: 1 | B33: 2 | C33: 3 | D33: 4 | E33: 5 | F33: 6 | G33: 7
B34: UKUPNO PRIHODI | C34: =C35+C37+C41+C43+C39 -> 166358.97 | D34: =D35+D37+D41+D43+D39 -> 238979.34 | E34: =E35+E37+E41+E43 -> 260210 | F34: =F35+F37+F41+F43 -> 253550 | G34: =G35+G37+G41+G43 -> 260600
A35: 1 | B35: Opći prihodi i primici | C35: =C36 -> 78027.99 | D35: =D36 -> 137909.34 | E35: =E36 -> 157610 | F35: =F36 -> 144210 | G35: =G36 -> 150310
A36: 01 | B36: Opći prihodi i primici | C36: 78027.99 | D36: 137909.34 | E36: 157610 | F36: 144210 | G36: 150310
A37: 3 | B37: Vlastiti prihodi | C37: =C38 -> 0 | D37: =D38 -> 0 | E37: =E38 -> 37100 | F37: =F38 -> 39000 | G37: =G38 -> 40000
A38: 03 | B38: Vlastiti prihodi | E38: 37100 | F38: 39000 | G38: 40000
A39: 4 | B39: Prihodi za posbne namjene | C39: =C40 -> 25883.14 | D39: =D40 -> 30680
A40: 04 | B40: Prihodi za posbne namjene | C40: 25883.14 | D40: 30680
A41: 5 | B41: Pomoći | C41: =C42 -> 62401.2 | D41: =D42 -> 70360 | E41: =E42 -> 65450 | F41: =F42 -> 70300 | G41: =G42 -> 70250
A42: 05 | B42: Pomoći | C42: 62401.2 | D42: 70360 | E42: 65450 | F42: 70300 | G42: 70250
A43: 6 | B43: Donacije | C43: =C44 -> 46.64 | D43: =D44 -> 30 | E43: =E44 -> 50 | F43: =F44 -> 40 | G43: =G44 -> 40
A44: 06 | B44: Donacije | C44: 46.64 | D44: 30 | E44: 50 | F44: 40 | G44: 40
A46: Razred/ skupina | B46: NAZIV | C46: IZVRŠENJE 2024. | D46: PLAN 2025. | E46: PRORAČUN 2026. | F46: PROJEKCIJA 2027. | G46: PROJEKCIJA 2028.
A47: 1 | B47: 2 | C47: 3 | D47: 4 | E47: 5 | F47: 6 | G47: 7
B48: UKUPNO RASHODI | C48: =C49+C51+C55+C57+C53 -> 161394.71 | D48: =D49+D51+D55+D57+D53 -> 233300 | E48: =E49+E51+E55+E57 -> 257210 | F48: =F49+F51+F55+F57 -> 253550 | G48: =G49+G51+G55+G57 -> 260600
A49: 1 | B49: Opći prihodi i primici | C49: =C50 -> 78027.99 | D49: =D50 -> 132230 | E49: =E50 -> 154610 | F49: =F50 -> 144210 | G49: =G50 -> 150310
A50: 01 | B50: Opći prihodi i primici | C50: 78027.99 | D50: 132230 | E50: 154610 | F50: 144210 | G50: 150310
A51: 3 | B51: Vlastiti prihodi | C51: =C52 -> 0 | D51: =D52 -> 0 | E51: =E52 -> 37100 | F51: =F52 -> 39000 | G51: =G52 -> 40000
A52: 03 | B52: Vlastiti prihodi | E52: 37100 | F52: 39000 | G52: 40000
A53: 4 | B53: Prihodi za posbne namjene | C53: =C54 -> 20927.56 | D53: =D54 -> 30680
A54: 04 | B54: Prihodi za posbne namjene | C54: 20927.56 | D54: 30680
A55: 5 | B55: Pomoći | C55: =C56 -> 62401.2 | D55: =D56 -> 70360 | E55: =E56 -> 65450 | F55: =F56 -> 70300 | G55: =G56 -> 70250
A56: 05 | B56: Pomoći | C56: 62401.2 | D56: 70360 | E56: 65450 | F56: 70300 | G56: 70250
A57: 6 | B57: Donacije | C57: =C58 -> 37.96 | D57: =D58 -> 30 | E57: =E58 -> 50 | F57: =F58 -> 40 | G57: =G58 -> 40
A58: 06 | B58: Donacije | C58: 37.96 | D58: 30 | E58: 50 | F58: 40 | G58: 40
B60: A3. RASHODI PREMA FUNKCIJSKOJ KLASIFIKACIJI
A62: Razred/ skupina | B62: NAZIV | C62: IZVRŠENJE 2024. | D62: PLAN 2025. | E62: PRORAČUN 2026. | F62: PROJEKCIJA 2027. | G62: PROJEKCIJA 2028.
A63: 1 | B63: 2 | C63: 3 | D63: 4 | E63: 5 | F63: 6 | G63: 7
B64: UKUPNO RASHODI | C64: =C65 -> 161394.71 | D64: =D65 -> 233300 | E64: =E65 -> 257210 | F64: =F65 -> 253550 | G64: =G65 -> 260600
A65: 09 | B65: Obrazovanje | C65: =C66 -> 161394.71 | D65: =D66 -> 233300 | E65: =E66 -> 257210 | F65: =F66 -> 253550 | G65: =G66 -> 260600
A66: 091 | B66: Predškolsko i osnovno obrazovanje | C66: =C67 -> 161394.71 | D66: =D67 -> 233300 | E66: =E67 -> 257210 | F66: =F67 -> 253550 | G66: =G67 -> 260600
A67: 0911 | B67: Predškolsko obrazovanje | C67: 161394.71 | D67: 233300 | E67: =E20 -> 257210 | F67: 253550 | G67: 260600

Sheet  Račun financiranja
A2: B. RAČUN FINANCIRANJA
A4: B1. RAČUN FINANCIRANJA PREMA EKONOMSKOJ KLASIFIKACIJI
A6: Razred/ skupina | B6: NAZIV | C6: IZVRŠENJE 2024. | D6: PLAN 2025. | E6: PRORAČUN 2026. | F6: PROJEKCIJA 2027. | G6: PROJEKCIJA 2028.
A7: 1 | B7: 2 | C7: 3 | D7: 4 | E7: 5 | F7: 6 | G7: 7
A8: 8 | B8: Primici od financijske imovine i zaduživanja
A9: 84 | B9: Primici od zaduživanja
A10: …
A11: 5 | B11: Izdaci za financijsku imovinu i otplate zajmova
A12: 54 | B12: Izdaci za otplatu glavnice primljenih kredita i zajmova
A13: …
B16: B2. RAČUN FINANCIRANJA PREMA IZVORIMA FINANCIRANJA
A18: Razred/ skupina | B18: NAZIV | C18: IZVRŠENJE 2024. | D18: PLAN 2025. | E18: PRORAČUN 2026. | F18: PROJEKCIJA 2027. | G18: PROJEKCIJA 2028.
A19: 1 | B19: 2 | C19: 3 | D19: 4 | E19: 5 | F19: 6 | G19: 7
A20: 8 | B20: Namjenski primici
A21: 81 | B21: Namjenski primici od zaduživanja
A22: …
B24: UKUPNO IZDACI
A25: 1 | B25: Opći prihodi i primici
A26: 11 | B26: Opći prihodi i primici
A27: …
A28: 3 | B28: Vlastiti prihodi
A29: 31 | B29: Vlastiti prihodi
A30: 4 | B30: Prihodi za posebne namjene
A31: 43 | B31: Ostali prihodi za posebne namjene
A32: …

Sheet Posebni dio
A2: II. POSEBNI DIO
A4: ŠIFRA | B4: NAZIV | C4: IZVRŠENJE 2024. | D4: PLAN 2025. | E4: PRORAČUN 2026. | F4: PROJEKCIJA 2027. | G4: PROJEKCIJA 2028.
A5: 1 | B5: 2 | C5: 3 | D5: 4 | E5: 5 | F5: 6 | G5: 7
A6: 48015 | B6: Dječji vrtić Bregunica Novo Virje
A7: RAZDJEL 002 | B7: Jednistveni upravni odjel
A8: GLAVA 00206 | B8: Javne potrebe u obrazovanju | C8: =C9+C10+C12+C13+C11 -> 161394.61 | D8: =D9+D10+D12+D13+D11 -> 233300 | E8: =E9+E10+E12+E13 -> 257210 | F8: =F9+F10+F12+F13 -> 253550 | G8: =G9+G10+G12+G13 -> 260600
A9: Izvor financiranja: 01 | B9: Opći prihodi i primici | C9: =C16+C35 -> 78027.99 | D9: =D16+D35 -> 132230 | E9: =E16+E35 -> 154610 | F9: =F16+F35 -> 144210 | G9: =G16+G35 -> 150310
A10: Izvor financiranja: 03 | B10: Vlastiti prihodi | E10: =E20 -> 37100 | F10: =F20 -> 39000 | G10: =G20 -> 40000
A11: Izvor financiranja: 04 | B11: Prihodi za posebne namjene | C11: =C24 -> 20927.46 | D11: =D24 -> 30680
A12: Izvor financiranja: 05 | B12: Pomoći | C12: =C28 -> 62401.2 | D12: =D28 -> 70360 | E12: =E28 -> 65450 | F12: =F28 -> 70300 | G12: =G28 -> 70250
A13: Izvor financiranja: 06 | B13: Donacije | C13: =C32 -> 37.96 | D13: =D32 -> 30 | E13: =E32 -> 50 | F13: =F32 -> 40 | G13: =G32 -> 40
A14: PROGRAM 1011 | B14: Program Predškolskog odgoja i obrazovanja
A15: Aktivnost A101101 | B15: Predškolski odgoj DV "Bregunica" | C15: =C17+C21+C29+C33+C36 -> 140467.15 | D15: =D17+D21+D29+D33+D36 -> 202620 | E15: =E17+E21+E29+E33+E36 -> 257210 | F15: =F17+F21+F29+F33+F36 -> 253550 | G15: =G17+G21+G29+G33+G36 -> 260600
A16: Izvor financiranja: 01 | B16: Opći prihodi i primici | C16: =C17 -> 77651.74 | D16: =D17 -> 127230 | E16: =E17 -> 144610 | F16: =F17 -> 142210 | G16: =G17 -> 147310
A17: 3 | B17: Rashodi poslovanja | C17: =C18+C19 -> 77651.74 | D17: =D18+D19 -> 127230 | E17: =E18+E19 -> 144610 | F17: =F18+F19 -> 142210 | G17: =G18+G19 -> 147310
A18: 31 | B18: Rashodi za zaposlene | C18: 68586.05 | D18: 110060 | E18: 130710 | F18: 131000 | G18: 135000
A19: 32 | B19: Materijalni rashodi | C19: 9065.69 | D19: 17170 | E19: 13900 | F19: 11210 | G19: 12310
A20: Izvor financiranja: 03 | B20: Vlastiti prihodi | C20: =C21 -> 0 | D20: =D21 -> 0 | E20: =E21 -> 37100 | F20: =F21 -> 39000 | G20: =G21 -> 40000
A21: 3 | B21: Rashodi poslovanja | C21: =C22+C23 -> 0 | D21: =D22+D23 -> 0 | E21: =E22+E23 -> 37100 | F21: =F22+F23 -> 39000 | G21: =G22+G23 -> 40000
A22: 32 | B22: Materijalni rashodi | E22: 35600 | F22: 37450 | G22: 38400
A23: 34 | B23: Financijski rashodi | E23: 1500 | F23: 1550 | G23: 1600
A24: Izvor financiranja: 04 | B24: Prihodi za posebne namjene | C24: =C25 -> 20927.46 | D24: =D25 -> 30680
A25: 3 | B25: Rashodi poslovanja | C25: =C26+C27 -> 20927.46 | D25: =D26+D27 -> 30680
A26: 32 | B26: Materijalni rashodi | C26: 20258.25 | D26: 29920
A27: 34 | B27: Financijski rashodi | C27: 669.21 | D27: 760
A28: Izvor financiranja: 05 | B28: Pomoći | C28: =C29 -> 62401.2 | D28: =D29 -> 70360 | E28: =E29 -> 65450 | F28: =F29 -> 70300 | G28: =G29 -> 70250
A29: 3 | B29: Rashodi poslovanja | C29: =C30+C31 -> 62401.2 | D29: =D30+D31 -> 70360 | E29: =E30+E31 -> 65450 | F29: =F30+F31 -> 70300 | G29: =G30+G31 -> 70250
A30: 31 | B30: Rashodi za zaposlene | C30: 62142 | D30: 70000 | E30: 65000 | F30: 70000 | G30: 70000
A31: 32 | B31: Materijalni rashodi | C31: 259.2 | D31: 360 | E31: 450 | F31: 300 | G31: 250
A32: Izvor financiranja: 06 | B32: Donacije | C32: =C33 -> 37.96 | D32: =D33 -> 30 | E32: =E33 -> 50 | F32: =F33 -> 40 | G32: =G33 -> 40
A33: 3 | B33: Rashodi poslovanja | C33: =C34 -> 37.96 | D33: =D34 -> 30 | E33: =E34 -> 50 | F33: =F34 -> 40 | G33: =G34 -> 40
A34: 32 | B34: Materijalni rashodi | C34: 37.96 | D34: 30 | E34: 50 | F34: 40 | G34: 40
A35: Izvor financiranja: 01 | B35: Opći prihodi i primici | C35: =C36 -> 376.25 | D35: =D36 -> 5000 | E35: =E36 -> 10000 | F35: =F36 -> 2000 | G35: =G36 -> 3000
A36: 4 | B36: Rashodi za nabavu nefinancijske imovine | C36: =C37 -> 376.25 | D36: =D37 -> 5000 | E36: =E37 -> 10000 | F36: =F37 -> 2000 | G36: =G37 -> 3000
A37: 42 | B37: Rashodi za nabavu nefinancijske imovine | C37: 376.25 | D37: 5000 | E37: 10000 | F37: 2000 | G37: 3000
A39: Članak 2.
A41: Procijenjeni preneseni manjak prihoda poslovanja iz prethodne godine iznosi 3.000,00 € i u cijelosti se planira pokriti u slijedećoj proračunskoj 2026. godini. Sukladno navedenom, vrtić nije u obvezi postupiti po članku 37. Zakona o proračunu ( Narodne novine 144/21) u svezi izrade višegodišnjeg plana uravnoteženja.
A43: Članak 3.
A45: Financijski plan smatra se usvojenim ako ga Upravno vijeće Dječjeg vrtića "Bregunica" donese većinom glasova, isti je sadržan u Proračunu Općine Novo Virje za 2026. i projekcijama za 2027. i 2028.
A47: Članak 4.
A49: Obrazloženje Financijskog plana Dječjeg vrtića "Bregunica" Novo Virje za 2026. godinu čini sastavni dio ovog Financijskog plana.
A51: Članak 5.
A53: Financijski plan stupa na snagu danom objave na oglasnoj ploči Djegjeg vrtića "Bregunica" Novo Virje, a primjenjuje se od 01. siječnja 2026. godine.
A55: UPRAVNO VIJEĆE DJEČJEG VRTIĆA "BREGUNICA" NOVO VIRJE
A57: KLASA: 400-02/25-01/04
A58: URBROJ: 2137-94-25-01
A59: U Novom Virju, 29. prosinac 2025.
F60: Predsjednica:
F61: Iva Mađerek Krešić
