Workbook

Sheet SAŽETAK
A1: Na temelju članka 30. Pravilnika o polugodišnjem i godišnjem izvještaju o izvršenju proračuna i financijskog plana ("Narodne Novine" broj 85/23), i članka 54. Satatuta Dječjeg vrtića Bregunica Novo Virje KLASA: 011-03/22-01/01, URBROJ: 2137-94-22-2 od 28. prosinca 2022. godine, Upravno vijeće Dječjeg vrtića Bregunica na 1. sjednici održanoj 25. kolovoza 2025. godine donijelo je
A3: POLUGODIŠNJI IZVJEŠTAJ O IZVRŠENJU FINANCIJSKOG PLANA DJEČJEG VRTIĆA BREGUNICA ZA 2025. GODINU
A5: I. OPĆI DIO
A7: Članak 1.
A9: Financijski plan DV Bregunica Novo Virje za 2025. godinu i projekcijama za 2026. i 2027. godinu ( KLASA: 400-02/24-01/03, URBROJ: 2137-94-24-1 od 31. prosinca 2024. ) u daljnjem tekstu Financijski plan, izvršen je kako slijedi:
A11: A) SAŽETAK RAČUNA PRIHODA I RASHODA
J12: EUR
A13: BROJČANA OZNAKA I NAZIV | F13: OSTVARENJE/ IZVRŠENJE 01.01.-30.06.2024. | G13: FINANCIJSKI PLAN 2025. | H13: OSTVARENJE/ IZVRŠENJE 01.01.-30.06.2025. | I13: INDEKS | J13: INDEKS**
A14: 1 | F14: 2 | G14: 3 | H14: 4 | I14: 5=4/2*100 | J14: 6=4/3*100
A15: PRIHODI UKUPNO | F15: =F16+F17 -> 80688.28 | G15: =G16+G17 -> 238979.34 | H15: =H16+H17 -> 101518.79 | I15: =I16+I17 -> 125.81603 | J15: =J16+J17 -> 42.480153
A16: 6 PRIHODI POSLOVANJA | F16: =' Račun prihoda i rashoda'!F10 -> 80688.28 | G16: =' Račun prihoda i rashoda'!G10 -> 238979.34 | H16: =' Račun prihoda i rashoda'!H10 -> 101518.79 | I16: =H16/F16*100 -> 125.81603 | J16: =H16/G16*100 -> 42.480153
A17: 7 PRIHODI OD PRODAJE NEFINANCIJSKE IMOVINE | F17: 0 | G17: 0 | H17: 0
A18: RASHODI UKUPNO | F18: =F19+F20 -> 79491.02 | G18: =G19+G20 -> 230300 | H18: =H19+H20 -> 102661 | I18: =I19+I20 -> 127.94496 | J18: =H18/G18*100 -> 44.577073
A19: 3 RASHODI POSLOVANJA | F19: =' Račun prihoda i rashoda'!F30 -> 79491.02 | G19: =' Račun prihoda i rashoda'!G30 -> 228300 | H19: =' Račun prihoda i rashoda'!H30 -> 101704.75 | I19: =H19/F19*100 -> 127.94496 | J19: =H19/G19*100 -> 44.54873
A20: 4 RASHODI ZA NABAVU NEFINANCIJSKE IMOVINE | F20: =' Račun prihoda i rashoda'!F70 -> 0 | G20: =' Račun prihoda i rashoda'!G70 -> 2000 | H20: =' Račun prihoda i rashoda'!H70 -> 956.25 | J20: =H20/G20*100 -> 47.8125
A21: RAZLIKA - VIŠAK / MANJAK | F21: =F15-F18 -> 1197.26 | G21: =G15-G18 -> 8679.34 | H21: =H15-H18 -> -1142.21 | I21: =I15-I18 -> -2.128926 | J21: =J15-J18 -> -2.0969201
A23: B) SAŽETAK RAČUNA FINANCIRANJA
F25: OSTVARENJE/ IZVRŠENJE 01.01.-30.06.2024. | G25: FINANCIJSKI PLAN 2025. | H25: OSTVARENJE/ IZVRŠENJE 01.01.-30.06.2025. | I25: INDEKS | J25: INDEKS**
A26: 8 PRIMICI OD FINANCIJSKE IMOVINE I ZADUŽIVANJA
A27: 5 IZDACI ZA FINANCIJSKU IMOVINU I OTPLATE ZAJMOVA
A28: NETO FINANCIRANJE | F28: =F26-F27 -> 0 | G28: =G26-G27 -> 0 | H28: =H26-H27 -> 0 | I28: =I26-I27 -> 0 | J28: =J26-J27 -> 0
A29: VIŠAK / MANJAK + NETO FINANCIRANJE | F29: =F21+F28 -> 1197.26 | G29: =G21+G28 -> 8679.34 | H29: =H21+H28 -> -1142.21 | I29: 0 | J29: 0
A31: C) PRENESENI VIŠAK ILI PRENESENI MANJAK
F33: OSTVARENJE/ IZVRŠENJE 01.01.-30.06.2024. | G33: FINANCIJSKI PLAN 2025. | H33: OSTVARENJE/ IZVRŠENJE 01.01.-30.06.2025. | I33: INDEKS | J33: INDEKS**
A34: PRIJENOS VIŠKA / MANJKA IZ PRETHODNE(IH) GODINE | F34: -8679.34 | G34: -8679.34 | H34: -3715.07 | I34: 0 | J34: 0
A35: PRIJENOS VIŠKA / MANJKA U SLJEDEĆE RAZDOBLJE | H35: =H29+H34 -> -4857.28 | I35: =I29+I34 -> 0 | J35: =J29+J34 -> 0
A36: VIŠAK / MANJAK + NETO FINANCIRANJE + PRIJENOS VIŠKA / MANJKA IZ PRETHODNE(IH) GODINE - PRIJENOS VIŠKA / MANJKA U SLJEDEĆE RAZDOBLJE | F36: =F21+F28+F34-F35 -> -7482.08 | G36: =G21+G28+G34-G35 -> -3.6379788e-12 | H36: =H21+H28+H34-H35 -> 0 | I36: 0 | J36: 0
A40: D) VIŠEGODIŠNJI PLAN URAVNOTEŽENJA
F42: OSTVARENJE/ IZVRŠENJE 01.01.-30.06.2024. | G42: FINANCIJSKI PLAN 2025. | H42: OSTVARENJE/ IZVRŠENJE 01.01.-30.06.2025. | I42: INDEKS | J42: INDEKS**
A43: PRIJENOS VIŠKA / MANJKA IZ PRETHODNE(IH) GODINE | F43: 0 | G43: =F46 -> 0 | H43: =G46 -> 0 | I43: =H46 -> 0 | J43: =I46 -> 0
A44: VIŠAK / MANJAK IZ PRETHODNE(IH) GODINE KOJI ĆE SE RASPOREDITI / POKRITI | F44: 0 | G44: 0 | H44: 0 | I44: 0 | J44: 0
A45: VIŠAK / MANJAK TEKUĆE GODINE | F45: 0 | G45: 0 | H45: 0 | I45: 0 | J45: 0
A46: PRIJENOS VIŠKA / MANJKA U SLJEDEĆE RAZDOBLJE | F46: =F43-F44+F45 -> 0 | G46: =G43-G44+G45 -> 0 | H46: =H43-H44+H45 -> 0 | I46: =I43-I44+I45 -> 0 | J46: =J43-J44+J45 -> 0

Sheet  Račun prihoda i rashoda
A1: Članak 2.
A3: RAČUN PRIHODA I RASHODA
A5: IZVJEŠTAJ O PRIHODIMA I RASHODIMA PREMA EKONOMSKOJ KLASIFIKACIJI
A7: BROJČANA OZNAKA I NAZIV | F7: OSTVARENJE/ IZVRŠENJE 01.01.-30.06.2024. | G7: FINANCIJSKI PLAN 2025. | H7: OSTVARENJE/ IZVRŠENJE 01.01.-30.06.2025. | I7: INDEKS | J7: INDEKS**
A8: 1 | F8: 2 | G8: 3 | H8: 4 | I8: 5=4/2*100 | J8: 6=4/3*100
E9: UKUPNI PRIHODI | F9: =F10 -> 80688.28 | G9: =G10 -> 238979.34 | H9: =H10 -> 101518.79 | I9: =H9/F9*100 -> 125.81603 | J9: =H9/G9*100 -> 42.480153
A10: 6 | E10: Prihodi poslovanja | F10: =F20+F11+F14+F17 -> 80688.28 | G10: =G20+G11+G14+G17 -> 238979.34 | H10: =H20+H11+H14+H17 -> 101518.79 | I10: =H10/F10*100 -> 125.81603 | J10: =H10/G10*100 -> 42.480153
B11: 63 | E11: Pomoći iz inozemstva i od subjekata unutar općeg proračuna | F11: =F12 -> 97.2 | G11: =G12 -> 360 | H11: =H12 -> 0 | I11: =H11/F11*100 -> 0 | J11: =H11/G11*100 -> 0
C12: 636 | E12: Pomoći proračunskim korisnicima iz proračuna koji im nije nadležan | F12: =F13 -> 97.2 | G12: 360 | H12: =H13 -> 0 | I12: =H12/F12*100 -> 0 | J12: =H12/G12*100 -> 0
D13: 6361 | E13: Tekuće pomoći iz državnog proračuna proračunskim korisnicima proračuna JLP®S | F13: 97.2 | I13: =H13/F13*100 -> 0
B14: 65 | E14: Prihodi pd upravnih i administrativnih pristojbi, pristojbi po posemnim propisima i naknada | F14: =F15 -> 14197.24 | G14: =G15 -> 30680 | H14: =H15 -> 15128.09 | I14: =H14/F14*100 -> 106.55656 | J14: =H14/G14*100 -> 49.309289
C15: 652 | E15: Prihodi po posebnim propisima | F15: =F16 -> 14197.24 | G15: 30680 | H15: =H16 -> 15128.09 | I15: =H15/F15*100 -> 106.55656 | J15: =H15/G15*100 -> 49.309289
D16: 6526 | E16: Ostali nespomenuti prihodi | F16: 14197.24 | H16: 15128.09 | I16: =H16/F16*100 -> 106.55656
B17: 66 | E17: Prihodi od donacija | F17: =F18 -> 0 | G17: =G18 -> 30 | H17: =H18 -> 0 | I17: =H17/F17*100 -> #DIV/0! | J17: =H17/G17*100 -> 0
C18: 663 | E18: Donacija | F18: =F19 -> 0 | G18: 30 | H18: =H19 -> 0 | J18: =H18/G18*100 -> 0
D19: 6631 | E19: Tekuće donacije
B20: 67 | E20: Prihodi iz nadležnog proračuna i od HZZO-a temeljem ugovornih obvaza | F20: =F21 -> 66393.84 | G20: 207909.34 | H20: =H21 -> 86390.7 | I20: =H20/F20*100 -> 130.11855 | J20: =H20/G20*100 -> 41.552102
C21: 671 | E21: Prihodi iz nadležnog proračuna za financiranje redovne djelatnosti proračunskih korisnika | F21: =F22+F23 -> 66393.84 | H21: =H22+H23 -> 86390.7 | I21: =H21/F21*100 -> 130.11855 | J21: =H21/G21*100 -> #DIV/0!
D22: 6711 | E22: Prihodi iz nadležnog proračuna za financiranje rashoda poslovanja | F22: 66393.84 | H22: 85434.45 | I22: =H22/F22*100 -> 128.67828
D23: 6712 | E23: Prihodi iz nadležnog proračuna za financiranje rashoda za nabavu nefinancijske imovine | H23: 956.25
A27: BROJČANA OZNAKA I NAZIV | F27: OSTVARENJE/ IZVRŠENJE 01.01.-30.06.2024. | G27: FINANCIJSKI PLAN 2025. | H27: OSTVARENJE/ IZVRŠENJE 01.01.-30.06.2025. | I27: INDEKS | J27: INDEKS**
A28: 1 | F28: 2 | G28: 3 | H28: 4 | I28: 5=4/2*100 | J28: 6=4/3*100
E29: UKUPNI RASHODI | F29: =F30+F70 -> 79491.02 | G29: =G30+G70 -> 230300 | H29: =H30+H70 -> 102661 | I29: =H29/F29*100 -> 129.14792 | J29: =H29/G29*100 -> 44.577073
A30: 3 | E30: Rashodi poslovanja | F30: =F31+F38+F66 -> 79491.02 | G30: =G31+G38+G66 -> 228300 | H30: =H31+H38+H66 -> 101704.75 | I30: =H30/F30*100 -> 127.94496 | J30: =H30/G30*100 -> 44.54873
B31: 31 | E31: Rashodi za zaposlene | F31: =F32+F36+F34 -> 61856.1 | G31: 180060 | H31: =H32+H36+H34 -> 83625.2 | I31: =H31/F31*100 -> 135.19313 | J31: =H31/G31*100 -> 46.442963
C32: 311 | E32: Plaće (Bruto) | F32: =F33 -> 51292.83 | H32: =H33 -> 69377.84 | I32: =H32/F32*100 -> 135.25836
D33: 3111 | E33: Plaće za redovan rad | F33: 51292.83 | H33: 69377.84 | I33: =H33/F33*100 -> 135.25836
C34: 312 | E34: Ostali rashodi za zaposlene | F34: =F35 -> 2100 | H34: =H35 -> 2800 | I34: =H34/F34*100 -> 133.33333
D35: 3121 | E35: Ostali rashodi za zaposlene | F35: 2100 | H35: 2800 | I35: =H35/F35*100 -> 133.33333
C36: 313 | E36: Doprinosi na plaće | F36: =F37 -> 8463.27 | H36: =H37 -> 11447.36 | I36: =H36/F36*100 -> 135.2593
D37: 3132 | E37: Doprinosi za zdravstveno osiguranje | F37: 8463.27 | H37: 11447.36 | I37: =H37/F37*100 -> 135.2593
B38: 32 | E38: Materijalni rashodi | F38: =F39+F44+F51+F60 -> 17294.03 | G38: 47480 | H38: =H39+H44+H51+H60 -> 17718.45 | I38: =H38/F38*100 -> 102.45414 | J38: =H38/G38*100 -> 37.317713
C39: 321 | E39: Naknade troškova zaposlenima | F39: =F41+F42+F43+F40 -> 2850.8 | H39: =H41+H42+H43+H40 -> 2375.79 | I39: =H39/F39*100 -> 83.33766
D40: 3211 | E40: Službena putovanja | F40: 304.2 | H40: 130.95
D41: 3212 | E41: Naknade za prijevoz na posao | F41: 2341.22 | H41: 2006.94 | I41: =H41/F41*100 -> 85.721974
D42: 3213 | E42: Stručno usavršavanje | F42: 45 | H42: 84 | I42: =H42/F42*100 -> 186.66667
D43: 3214 | E43: Naknada za korištenje privatnog automobila u službene svrhe | F43: 160.38 | H43: 153.9 | I43: =H43/F43*100 -> 95.959596
C44: 322 | E44: Rashodi za materijal i energiju | F44: =F45+F46+F47+F48+F49+F50 -> 11136.45 | H44: =H45+H46+H47+H48+H49+H50 -> 10823.38 | I44: =H44/F44*100 -> 97.188781
D45: 3221 | E45: Uredski materijal i ostali materijalni rashodi | F45: 1661.75 | H45: 1648.49 | I45: =H45/F45*100 -> 99.202046
D46: 3222 | E46: Materijal i sirovine | F46: 6279.58 | H46: 5400.61 | I46: =H46/F46*100 -> 86.002726
D47: 3223 | E47: Energija | F47: 2696.99 | H47: 2679.28 | I47: =H47/F47*100 -> 99.343342
D48: 3224 | E48: Materijal i dijelovi za tekuće i investicijsko održavanje | H48: 34.2
D49: 3225 | E49: Sitni inventar i auto gume | F49: 498.13 | H49: 1052.72 | I49: =H49/F49*100 -> 211.33439
D50: 3227 | E50: Službena, radna i zaštitna odjeća i obuća | H50: 8.08
C51: 323 | E51: Rashodi za usluge | F51: =F52+F53+F55+F57+F58+F54+F56+F59 -> 2902.13 | H51: =H52+H53+H55+H57+H58+H59+H54+H56 -> 4084.34 | I51: =H51/F51*100 -> 140.73594
D52: 3231 | E52: Usluge telefona, pošte i prijevoza | F52: 217.71 | H52: 248.51 | I52: =H52/F52*100 -> 114.14726
D53: 3232 | E53: Usluge tekućeg i investicijskog održavanja | F53: 986.56 | H53: 1472.02 | I53: =H53/F53*100 -> 149.20735
D54: 3233 | E54: Promidžba i informiranje
D55: 3234 | E55: Komunalne usluge | F55: 922.34 | H55: 1053.19 | I55: =H55/F55*100 -> 114.18674
D56: 3235 | E56: Zakupnine i najamnine | F56: 50 | H56: 150 | I56: =H56/F56*100 -> 300
D57: 3236 | E57: Zdravstvene i veterinarske usluge | F57: 725.52 | H57: 1059.5 | I57: =H57/F57*100 -> 146.03319
D58: 3238 | E58: Računalne usluge | H58: 73.13
D59: 3239 | E59: Ostale usluge | H59: 27.99
C60: 329 | E60: Ostali nespomenuti rashodi poslovanja | F60: =F62+F64+F63+F61 -> 404.65 | H60: =H62+H64+H63+H65+H61 -> 434.94 | I60: =H60/F60*100 -> 107.48548
D61: 3292 | E61: Premija osiguranja | F61: 320.94 | H61: 320.94 | I61: =H61/F61*100 -> 100
D62: 3293 | E62: Reprezentacija | F62: 83.71 | H62: 114 | I62: =H62/F62*100 -> 136.18445
D63: 3294 | E63: Članarine
D64: 3295 | E64: Pristojbe i naknade
D65: 3299 | E65: Ostali nespomenuti rashodi poslovanja
B66: 34 | E66: Financijski rashodi | F66: =F67 -> 340.89 | G66: 760 | H66: =H67 -> 361.1 | I66: =H66/F66*100 -> 105.9286 | J66: =H66/G66*100 -> 47.513158
C67: 343 | E67: Ostali financijski rashodi | F67: =F68 -> 340.89 | H67: =H68+H69 -> 361.1 | I67: =H67/F67*100 -> 105.9286
D68: 3431 | E68: Bankarske usluge i usluge platnog prometa | F68: 340.89 | H68: 361.1 | I68: =H68/F68*100 -> 105.9286
D69: 3433 | E69: Ztezne kamate
A70: 4 | E70: Rashodi za nabavu nefinancijske imovine | F70: =F71 -> 0 | G70: =G71 -> 2000 | H70: =H71 -> 956.25 | J70: =H70/G70*100 -> 47.8125
B71: 42 | E71: Rashodi za nabavu proizvedene dugotrajne imovine | F71: =F72 -> 0 | G71: 2000 | H71: =H72 -> 956.25 | J71: =H71/G71*100 -> 47.8125
C72: 422 | E72: Postrojenja i oprema | F72: =F74+F75 -> 0 | H72: =H74+H75+H73 -> 956.25
D73: 4221 | E73: Uredska oprema i namještaj
D74: 4223 | E74: Oprema za održavanje i zaštitu | H74: 956.25

Sheet izvori financiranja
A1: Članak 3.
A3: IZVJEŠTAJ O PRIHODIMA I RASHODIMA PREMA IZVORIMA FINANCIRANJA
A5: BROJČANA OZNAKA I NAZIV | B5: OSTVARENJE/ IZVRŠENJE 01.01.-30.06.2024. | C5: FINANCIJSKI PLAN 2025. | D5: OSTVARENJE/ IZVRŠENJE 01.01.-30.06.2025. | E5: INDEKS | F5: INDEKS**
A6: 1 | B6: 2 | C6: 3 | D6: 4 | E6: 5=4/2*100 | F6: 6=4/3*100
A7: UKUPNO | D7: =D8+D21 -> 106483.05
A8: UKUPNO PRIHODI | B8: =B9+B12+B15+B18 -> 80688.28 | C8: =C9+C12+C15+C18 -> 238979.34 | D8: =D9+D12+D15+D18 -> 101518.79 | E8: =D8/B8*100 -> 125.81603 | F8: =D8/C8*100 -> 42.480153
A9: 1 Opći prihodi i primici | B9: =B10 -> 66393.84 | C9: =C10 -> 137909.34 | D9: =D10 -> 54896.7 | E9: =D9/B9*100 -> 82.683424 | F9: =D9/C9*100 -> 39.806368
A10: 01 Opći prihodi i primici | B10: 66393.84 | C10: 137909.34 | D10: 54896.7 | E10: =D10/B10*100 -> 82.683424 | F10: =D10/C10*100 -> 39.806368
A12: 4 Prihodi za posebne namjene | B12: =B13 -> 14197.24 | C12: =C13 -> 30680 | D12: =D13 -> 15128.09 | E12: =D12/B12*100 -> 106.55656 | F12: =D12/C12*100 -> 49.309289
A13: 04 Prihodi za posebne namjene | B13: 14197.24 | C13: 30680 | D13: 15128.09 | E13: =D13/B13*100 -> 106.55656 | F13: =D13/C13*100 -> 49.309289
A15: 5 Pomoći | B15: =B16 -> 97.2 | C15: =C16 -> 70360 | D15: =D16 -> 31494 | E15: =D15/B15*100 -> 32401.235 | F15: =D15/C15*100 -> 44.761228
A16: 05 Pomoći | B16: 97.2 | C16: 70360 | D16: 31494 | E16: =D16/B16*100 -> 32401.235 | F16: =D16/C16*100 -> 44.761228
A18: 6 Donacije | B18: =B19 -> 0 | C18: =C19 -> 30 | D18: =D19 -> 0 | F18: =D18/C18*100 -> 0
A19: 06 Donacije | C19: 30 | F19: =D19/C19*100 -> 0
A21: 9 REZULTAT POSLOVANJA | D21: =D22+D23 -> 4964.26
A22: 94 prihodi za posebne namjene | D22: 4955.58
A23: 96 donacije | D23: 8.68
A25: UKUPNO | D25: =D26+D39 -> 111340.33
A26: UKUPNO RASHODI | B26: =B27+B30+B33+B36 -> 79491.02 | C26: =C27+C30+C33+C36 -> 230300 | D26: =D27+D30+D33+D36 -> 102661 | E26: =D26/B26*100 -> 129.14792 | F26: =D26/C26*100 -> 44.577073
A27: 1 Opći prihodi i primici | B27: =B28 -> 66393.84 | C27: =C28 -> 129230 | D27: =D28 -> 55094.39 | E27: =D27/B27*100 -> 82.981177 | F27: =D27/C27*100 -> 42.632817
A28: 01 Opći prihodi i primici | B28: 66393.84 | C28: 129230 | D28: 55094.39 | E28: =D28/B28*100 -> 82.981177 | F28: =D28/C28*100 -> 42.632817
A30: 4 Prihodi za posebne namjene | B30: =B31 -> 12998.61 | C30: =C31 -> 30680 | D30: =D31 -> 16064.35 | E30: =D30/B30*100 -> 123.58514 | F30: =D30/C30*100 -> 52.360984
A31: 04 Prihodi za posebne namjene | B31: 12998.61 | C31: 30680 | D31: 16064.35 | E31: =D31/B31*100 -> 123.58514 | F31: =D31/C31*100 -> 52.360984
A33: 5 Pomoći | B33: =B34 -> 98.57 | C33: =C34 -> 70360 | D33: =D34 -> 31494 | E33: =D33/B33*100 -> 31950.898 | F33: =D33/C33*100 -> 44.761228
A34: 05 Pomoći | B34: 98.57 | C34: 70360 | D34: 31494 | E34: =D34/B34*100 -> 31950.898 | F34: =D34/C34*100 -> 44.761228
A36: 6 Donacije | B36: 0 | C36: =C37 -> 30 | D36: =D37 -> 8.26 | F36: =D36/C36*100 -> 27.533333
A37: 06 Donacije | B37: 0 | C37: 30 | D37: 8.26 | F37: =D37/C37*100 -> 27.533333
A39: 9 REZULTAT POSLOVANJA | D39: =D40 -> 8679.33
A40: 09 rezultat prijašnjih godina | D40: 8679.33

Sheet Rashodi prema funkcijskoj kl
A1: Članak 4.
A3: IZVJEŠTAJ RASHODA PREMA FUNKCIJSKOJ KLASIFIKACIJI
A5: Brojčana oznaka i naziv | B5: OSTVARENJE/ IZVRŠENJE 01.01.-30.06.2024. | C5: FINANCIJSKI PLAN 2025. | D5: OSTVARENJE/ IZVRŠENJE 01.01.-30.06.2025. | E5: INDEKS | F5: INDEKS**
A6: 1 | B6: 2 | C6: 3 | D6: 4 | E6: 5=4/2*100 | F6: 6=4/3*100
A7: UKUPNI RASHODI | B7: =B8 -> 79491.02 | C7: =C8 -> 230300 | D7: =D8 -> 102661 | E7: =E8 -> 0 | F7: =F8 -> 44.577073
A8: 09 Obrazovanje | B8: =B9 -> 79491.02 | C8: =C9 -> 230300 | D8: =D9 -> 102661 | E8: =E9 -> 0 | F8: =F9 -> 44.577073
A9: 091 Predškolsko i osnovno obrazovanje | B9: =B10 -> 79491.02 | C9: =C10 -> 230300 | D9: =D10 -> 102661 | E9: =E10 -> 0 | F9: =F10 -> 44.577073
A10: 0911 Predškolsko obrazovanje | B10: 79491.02 | C10: 230300 | D10: 102661 | F10: =D10/C10*100 -> 44.577073

Sheet Račun financiranja
A1: Članak 5.
A3: RAČUN FINANCIRANJA
A4: IZVJEŠTAJ RAČUNA FINANCIRANJA PREMA EKONOMSKOJ KLASIFIKACIJI
A6: BROJČANA OZNAKA I NAZIV | F6: OSTVARENJE/ IZVRŠENJE 01.01.-30.06.2024. | G6: FINANCIJSKI PLAN 2025. | H6: OSTVARENJE/ IZVRŠENJE 01.01.-30.06.2025. | I6: INDEKS | J6: INDEKS**
A7: 1 | F7: 2 | G7: 3 | H7: 4 | I7: 5=4/2*100 | J7: 6=4/3*100
A8: 8 | E8: Primici od financijske imovine i zaduživanja | F8: 0 | G8: 0 | H8: 0 | I8: 0 | J8: 0
B9: 84 | E9: Primici od zaduživanja
C10: 841 | E10: Primljeni krediti i zajmovi od međunarodnih organizacija, institucija i tijela EU te inozemnih vlada
D11: 8413 | E11: Primljeni zajmovi od međunarodnih organizacija
A13: 5 | E13: Izdaci za financijsku imovinu i otplate zajmova | F13: 0 | G13: 0 | H13: 0 | I13: 0 | J13: 0
B14: 54 | E14: Izdaci za otplatu glavnice primljenih kredita i zajmova
C15: 541 | E15: Otplata glavnice primljenih kredita i zajmova od međunarodnih organizacija, institucija i tijela EU te inozemnih vlada
D16: 5413 | E16: Otplata glavnice primljenih zajmova od međunarodnih organizacija

Sheet Račun financiranja prema izvori
B2: Članak 6.
B4: IZVJEŠTAJ RAČUNA FINANCIRANJA PREMA IZVORIMA FINANCIRANJA
B6: BROJČANA OZNAKA I NAZIV | C6: OSTVARENJE/ IZVRŠENJE 01.01.-30.06.2024. | D6: FINANCIJSKI PLAN 2025. | E6: OSTVARENJE/ IZVRŠENJE 01.01.-30.06.2025. | F6: INDEKS | G6: INDEKS**
B7: 1 | C7: 2 | D7: 3 | E7: 4 | F7: 5=4/2*100 | G7: 6=4/3*100
B8: UKUPNO PRIMICI | C8: 0 | D8: 0 | E8: 0 | F8: 0 | G8: 0
B9: 1 Opći prihodi i primici
B10: 01 Opći prihodi i primici
B12: 3 Vlastiti prihodi
B13: 03 Vlastiti prihodi
B15: 5 Pomoći
B16: 05 Pomoći
B19: UKUPNO IZDACI | C19: 0 | D19: 0 | E19: 0 | F19: 0 | G19: 0
B20: 1 Opći prihodi i primici
B21: 01 Opći prihodi i primici
B23: 3 Vlastiti prihodi
B24: 03 Vlastiti prihodi
B26: 5 Pomoći
B27: 05 Pomoći

Sheet POSEBNI DIO
A1: Članak 7.
A3: II. POSEBNI DIO
A5: IZVJEŠTAJ PO PROGRAMSKOJ KLASIFIKACIJI
A7: BROJČANA OZNAKA I NAZIV | E7: FINACIJSKI PLAN 2025. | F7: OSTVARENJE/IZVRŠENJE 01.01.-30.06.2025. | G7: INDEKS**
A8: 1 | E8: 2 | F8: 3 | G8: 4=3/2*100
A9: 48015 | D9: Dječji vrtić Bregunica Novo Virje
A10: Program 1011 | D10: Predškolski odgoj
A11: A101101 | D11: Redovan rad Dječjeg vrtića Bregunica Novo Virje
A12: 00206 | D12: Glava 00206 Odgoj i obrazovanje | E12: =E18 -> 230300 | F12: =F13+F14+F15+F16+F17 -> 102661 | G12: =F12/E12*100 -> 44.577073
A13: 01 | D13: Opći prihodi i primici | E13: =E20+E30+E58 -> 129230 | F13: =F20+F30+F58 -> 55094.39 | G13: =F13/E13*100 -> 42.632817
A14: 04 | D14: Prihodi za posebne namjene | E14: =E29+E52 -> 30680 | F14: =F29+F52 -> 16064.35 | G14: =F14/E14*100 -> 52.360984
A15: 05 | D15: Pomoći | E15: =E21+E28 -> 70360 | F15: =F21+F28 -> 31494 | G15: =F15/E15*100 -> 44.761228
A16: 06 | D16: Donacije | E16: =E27 -> 30 | F16: =F27 -> 0 | G16: =F16/E16*100 -> 0
A17: 96 | D17: Donacije - prethodne godine | F17: =F26 -> 8.26
A18: 3 i 4 | D18: Ukupno rashodi | E18: =E19+E56 -> 230300 | F18: =F19+F56 -> 102661 | G18: =F18/E18*100 -> 44.577073
A19: 3 | D19: Rashodi poslovanja | E19: =E22+E31+E53 -> 228300 | F19: =F22+F31+F53 -> 101704.75 | G19: =F19/E19*100 -> 44.54873
A20: 01 | D20: Opći prihodi i primici | E20: 110060 | F20: 52131.2 | G20: =F20/E20*100 -> 47.366164
A21: 05 | D21: Pomoći | E21: 70000 | F21: 31494
A22: 31 | D22: Rashodi za zaposlene | E22: 180060 | F22: =F23+F24+F25 -> 83625.2 | G22: =F22/E22*100 -> 46.442963
A23: 3111 | D23: Plaće za redovan rad | F23: 69377.84
A24: 3121 | D24: Ostali rashodi za zaposlene | F24: 2800
A25: 3132 | D25: Doprinosi za obvezno zdravstveno osiguranje | F25: 11447.36
A26: 96 | D26: Donacije - prethodne godine | F26: 8.26
A27: 06 | D27: Donacije | E27: 30 | F27: 0
A28: 05 | D28: Pomoći | E28: 360 | F28: 0 | G28: =F28/E28*100 -> 0
A29: 04 | D29: Prihodi za posebne namjene | E29: 29920 | F29: 15703.25 | G29: =F29/E29*100 -> 52.484124
A30: 01 | D30: Opći prihodi i primici | E30: 17170 | F30: 2006.94 | G30: =F30/E30*100 -> 11.688643
A31: 32 | D31: Materijalni rashodi | E31: 47480 | F31: =F32+F33+F34+F35+F36+F37+F38+F40+F42+F43+F44+F46+F49+F50+F45+F39+F41+F48+F51+F47 -> 17718.45 | G31: =F31/E31*100 -> 37.317713
A32: 3211 | D32: Službena putovanja | F32: 130.95
A33: 3212 | D33: Naknade za prijevoz na posao | F33: 2006.94
A34: 3213 | D34: Stručno usavršavanje | F34: 84
A35: 3214 | D35: Naknada za korištenje privatnog automobila u službene svrhe | F35: 153.9
A36: 3221 | D36: Uredski materijal i ostali materijalni rashodi | F36: 1648.49
A37: 3222 | D37: Materijal i sirovine | F37: 5400.61
A38: 3223 | D38: Energija | F38: 2679.28
A39: 3224 | D39: Materijal i dijelovi za tekuće i invest.održav. | F39: 34.2
A40: 3225 | D40: Sitni inventar i auto gume | F40: 1052.72
A41: 3227 | D41: Službena, radna i zaštitna odjeća | F41: 8.08
A42: 3231 | D42: Usluge telefona, pošte i prijevoza | F42: 248.51
A43: 3232 | D43: Usluge tekućeg i investicijskog održavanja | F43: 1472.02
... A48: 3239 | D48: Ostale usluge | F48: 27.99
A49: 3292 | D49: Premije osiguranja | F49: 320.94
A50: 3293 | D50: Reprezentacija | F50: 114
A51: 3294 | D51: Članarine
A52: 04 | D52: Prihodi za posebne namjene | E52: 760 | F52: 361.1 | G52: =F52/E52*100 -> 47.513158
A53: 34 | D53: Financijski rashodi | E53: 760 | F53: =F54+F55 -> 361.1 | G53: =F53/E53*100 -> 47.513158
A54: 3431 | D54: Bankarske usluge i usluge platnog prometa | F54: 361.1
A55: 3433 | D55: Zatezne kamate
A56: 4 | D56: Rashodi za nabavu nefinancijske imovine | E56: =E59 -> 2000 | F56: =F59 -> 956.25 | G56: =F56/E56*100 -> 47.8125
A57: 04 | D57: Prihodi za posebne namjene | G57: =F57/E57*100 -> #DIV/0!
A58: 01 | D58: Opći prihodi i primici | E58: 2000 | F58: 956.25
A59: 42 | D59: Rashodi za nabavu proizvedene dugotrajne imovine | E59: 2000 | F59: =F60+F61 -> 956.25 | G59: =F59/E59*100 -> 47.8125
A60: 4221 | D60: Uredska oprema i namještaj
A61: 4223 | D61: Oprema za grijanje, ventilaciju i hlađenje | F61: 956.25

Sheet obrazloženje
A1: Članak 8.
A3: Obrazloženje općeg dijela izvještaja o izvršenju financijskog plana
A5: Ukupni prihodi poslovanja u periodu od 1. siječnja do 30. lipnja ostvareni su u iznosu 101.518,79 € ili 42,48 % od Plana.
A6: Ukupni rashodi poslovanja u periodu 1. siječnja do 30. lipnja ostvareni su u iznosu 101.704,75 € ili 44,55% od Plana.
A7: Rashodi za nabavu nefinancijske imovine ostvareni su u iznosu 956,25 € ili 47,81% od Plana.
A9: Preneseni manjak iz prethodne godine iznosi 3.715,07 €.
A10: Ostvaren je manjak prihoda i primitaka za pokriće u slijedećem razdoblju u iznosu 1.142,21 €.
A12: Članak 9.
A14: Obrazloženje ostvarenja prihoda i rashoda, primitaka i izdataka
A16: Od ukupno ostvarenih prihoda najzastupljeniji su prihodi od nadležnog proračuna u iznosu 86.390,70 € ( dio 31.494,00 € uplaćeno iz državnog proračuna za fisklanu održivost vrtića ) koji su utrošeni financiranje rashoda poslovanja i rashoda za nabavu nefinancijske imovine. Prihodi po posebnim propisima ostvareni su u iznosu 15.128,09 € i odnose se na uplate roditelja za smještaj djece u dječjem vrtiću.
A20: Od ukupno ostvarenih rashoda najzastupljeniji su rashodi za zaposlene u iznosu 83.625,20 € te materijalni rashodi u iznosu 17.718,45 € koji se odnose na naknade troškova zaposlenima, rashode za materijal i energiju, usluge, ostale nespomenute rashode poslovanja te financijski rashodi u iznosu od 361,10 €. Rashodi za nabavu dugotrajne imovine su ostvareniu iznosu od 956,25 € i odnose se na nabavu klima uređaja za spavaonicu u sklopu jaslica dječjeg vrtića.
A24: Stanje novčanih sredstava na početku izvještajnog razdoblja je 8.460,66 €, ukupni priljevi na novčane račune su bili u iznosu 101.850,07 €. Ukupni odljevi s novčanih računa su bili u iznosu 98.568,00 €, dok je stanje novčanih sredstava na kraju izvještajnog razdoblja 11.742,73 €.
... A95: URBROJ: 2137-94-25-02
A96: Novo Virje, 25. kolovoz 2025. | K96: Predsjednica Upravnog vijeća:
K97: Iva Mađerek Krešić
