Workbook

Sheet SAŽETAK
A1: Na temelju članka 46. Zakona o proračunu ("Narodne Novine" broj 144/21), članka 36. Zakona o ustanovama (Narodne novine broj: 76/93, 29/97, 47/99, 35/08 i 127/19.) i članka 54. Statuta Dječjeg vrtića Bregunica Novo Virje, Upravno vijeće Dječjeg vrtića Bregunica na 3. sjednici održanoj 23. rujna 2025. godine donijelo je
A3: I. IZMJENE FINANCIJSKOG PLANA DJEČJEG VRTIĆA BREGUNICA ZA 2025. GODINU
A5: I. OPĆI DIO
A7: Članak 1.
A9: A) SAŽETAK RAČUNA PRIHODA I RASHODA
H10: EUR
F11: Proračun za 2025. | G11: Povećanje/ smanjenje | H11: Novi PLAN ZA 2025.
A12: PRIHODI UKUPNO | F12: =F13+F14 -> 238979.34 | G12: =G13+G14 -> 3000 | H12: =H13+H14 -> 241979.34
A13: 6 PRIHODI POSLOVANJA | F13: =' Račun prihoda i rashoda'!D11 -> 238979.34 | G13: =' Račun prihoda i rashoda'!E11 -> 3000 | H13: =' Račun prihoda i rashoda'!F11 -> 241979.34
A14: 7 PRIHODI OD PRODAJE NEFINANCIJSKE IMOVINE | F14: =' Račun prihoda i rashoda'!D16 -> 0 | G14: =' Račun prihoda i rashoda'!E16 -> 0 | H14: =' Račun prihoda i rashoda'!F16 -> 0
A15: RASHODI UKUPNO | F15: =F16+F17 -> 230300 | G15: =G16+G17 -> 3000 | H15: =H16+H17 -> 233300
A16: 3 RASHODI POSLOVANJA | F16: =' Račun prihoda i rashoda'!D30 -> 228300 | G16: =' Račun prihoda i rashoda'!E30 -> 0 | H16: =' Račun prihoda i rashoda'!F30 -> 228300
A17: 4 RASHODI ZA NABAVU NEFINANCIJSKE IMOVINE | F17: =' Račun prihoda i rashoda'!D34 -> 2000 | G17: =' Račun prihoda i rashoda'!E34 -> 3000 | H17: =' Račun prihoda i rashoda'!F34 -> 5000
A18: RAZLIKA - VIŠAK / MANJAK | F18: =F12-F15 -> 8679.34 | G18: =G12-G15 -> 0 | H18: =H12-H15 -> 8679.34
A20: B) SAŽETAK RAČUNA FINANCIRANJA
F22: Proračun za 2025. | G22: Povećanje/ smanjenje | H22: Novi PLAN ZA 2025.
A23: 8 PRIMICI OD FINANCIJSKE IMOVINE I ZADUŽIVANJA | F23: 0 | G23: 0 | H23: 0
A24: 5 IZDACI ZA FINANCIJSKU IMOVINU I OTPLATE ZAJMOVA | F24: 0 | G24: 0 | H24: 0
A25: NETO FINANCIRANJE | F25: =F23-F24 -> 0 | G25: =G23-G24 -> 0 | H25: =H23-H24 -> 0
A26: VIŠAK / MANJAK + NETO FINANCIRANJE | F26: =F18+F25 -> 8679.34 | G26: =G18+G25 -> 0 | H26: =H18+H25 -> 8679.34
A28: C) PRENESENI VIŠAK ILI PRENESENI MANJAK
F30: Proračun za 2025. | G30: Povećanje/ smanjenje | H30: Novi PLAN ZA 2025.
A31: PRIJENOS VIŠKA / MANJKA IZ PRETHODNE(IH) GODINE | F31: -8679.34 | G31: 0 | H31: -8679.34
A32: PRIJENOS VIŠKA / MANJKA U SLJEDEĆE RAZDOBLJE | F32: =F26+F31 -> 0 | G32: =G26+G31 -> 0 | H32: =H26+H31 -> 0
A33: VIŠAK / MANJAK + NETO FINANCIRANJE + PRIJENOS VIŠKA / MANJKA IZ PRETHODNE(IH) GODINE - PRIJENOS VIŠKA / MANJKA U SLJEDEĆE RAZDOBLJE | F33: =F18+F25+F31-F32 -> -3.6379788e-12 | G33: =G18+G25+G31-G32 -> 0 | H33: =H18+H25+H31-H32 -> -3.6379788e-12
A35: D) VIŠEGODIŠNJI PLAN URAVNOTEŽENJA
F37: Proračun za 2025. | G37: Povećanje/ smanjenje | H37: Novi PLAN ZA 2025.
A38: PRIJENOS VIŠKA / MANJKA IZ PRETHODNE(IH) GODINE | F38: 0 | G38: =F41 -> 0 | H38: =G41 -> 0
A39: VIŠAK / MANJAK IZ PRETHODNE(IH) GODINE KOJI ĆE SE RASPOREDITI / POKRITI | F39: 0 | G39: 0 | H39: 0
A40: VIŠAK / MANJAK TEKUĆE GODINE | F40: 0 | G40: 0 | H40: 0
A41: PRIJENOS VIŠKA / MANJKA U SLJEDEĆE RAZDOBLJE | F41: =F38-F39+F40 -> 0 | G41: =G38-G39+G40 -> 0 | H41: =H38-H39+H40 -> 0
A43: * Napomena: Iznosi u stupcima Izvršenje 2022. preračunavaju se iz kuna u eure prema fiksnom tečaju konverzije (1 EUR=7,53450 kuna) i po pravilima za preračunavanje i zaokruživanje.

Sheet  Račun prihoda i rashoda
A1: I. IZMJENE FINANCIJSKOG PLANA DJEČJEG VRTIĆA BREGUNICA ZA 2025. GODINU
A3: I. OPĆI DIO
A5: A. RAČUN PRIHODA I RASHODA
A7: PRIHODI POSLOVANJA PREMA EKONOMSKOJ KLASIFIKACIJI
A9: Razred | B9: Skupina | C9: Naziv prihoda | D9: Plan za 2025. | E9: Povećanje/ smanjenje | F9: Novi PLAN za 2025.
C10: PRIHODI UKUPNO | D10: =D11+D16 -> 238979.34 | E10: =E11+E16 -> 3000 | F10: =F11+F16 -> 241979.34
A11: 6 | C11: Prihodi poslovanja | D11: =D12+D13+D14+D15 -> 238979.34 | E11: =E12+E13+E14+E15 -> 3000 | F11: =F12+F13+F14+F15 -> 241979.34
B12: 63 | C12: Pomoći iz inozemstva i od subjekata unutar općeg proračuna | D12: 360 | F12: =D12+E12 -> 360
B13: 65 | C13: Prihodi od upravnih i sministrativnih pristojbi, pristojbi po posebnim propisima i inaknadama | D13: 30680 | F13: =D13+E13 -> 30680
B14: 66 | C14: Prihodi od prodaje proizvoda i robe te pruženih usluga, prihoda od donacija | D14: 30 | F14: =D14+E14 -> 30
B15: 67 | C15: Prihodi iz nadležnog proračuna i od HZZO-a temeljem ugovornih obveza | D15: 207909.34 | E15: 3000 | F15: =D15+E15 -> 210909.34
A16: 7 | C16: Prihodi od prodaje nefinancijske imovine
B17: 72 | C17: Prihodi od prodaje proizvedene dugotrajne imovine
A26: RASHODI POSLOVANJA PREMA EKONOMSKOJ KLASIFIKACIJI
A28: Razred | B28: Skupina | C28: Naziv rashoda | D28: Plan za 2025. | E28: Povećanje/ smanjenje | F28: Novi PLAN za 2025.
C29: RASHODI UKUPNO | D29: =D30+D34 -> 230300 | E29: =E30+E34 -> 3000 | F29: =F30+F34 -> 233300
A30: 3 | C30: Rashodi poslovanja | D30: =D31+D32+D33 -> 228300 | E30: =E31+E32+E33 -> 0 | F30: =F31+F32+F33 -> 228300
B31: 31 | C31: Rashodi za zaposlene | D31: 180060 | F31: =D31+E31 -> 180060
B32: 32 | C32: Materijalni rashodi | D32: 47480 | F32: =D32+E32 -> 47480
B33: 34 | C33: Financijski rashodi | D33: 760 | F33: =D33+E33 -> 760
A34: 4 | C34: Rashodi za nabavu nefinancijske imovine | D34: =D35 -> 2000 | E34: =E35 -> 3000 | F34: =F35 -> 5000
B35: 42 | C35: Rashodi za nabavu proizvedene dugotrajne imovine | D35: 2000 | E35: ='POSEBNI DIO'!F32 -> 3000 | F35: =D35+E35 -> 5000

Sheet Prihodi i rashodi po izvorima
A1: I. IZMJENE FINANCIJSKOG PLANA DJEČJEG VRTIĆA BREGUNICA ZA 2025. GODINU
A3: I. OPĆI DIO
A5: A. RAČUN PRIHODA I RASHODA
A7: PRIHODI POSLOVANJA PREMA IZVORIMA FINANCIRANJA
A9: Brojčana oznaka i naziv | B9: Plan za 2025. | C9: Povećanje/smanjenje | D9: Novi PLAN za 2025.
A10: PRIHODI UKUPNO | B10: =B11+B13+B15+B17 -> 238979.34 | C10: =C11+C13+C15+C17 -> 0 | D10: =D11+D13+D15+D17 -> 238979.34
A11: 1 Opći prihodi i primici | B11: =B12 -> 137909.34 | C11: =C12 -> 0 | D11: =D12 -> 137909.34
A12: 01 Opći prihodi i primici | B12: 137909.34 | D12: =B12+C12 -> 137909.34
A13: 4 Prihodi za posebne namjene | B13: =B14 -> 30680 | C13: =C14 -> 0 | D13: =D14 -> 30680
A14: 04 Prihodi za posebne namjene | B14: 30680 | D14: =B14+C14 -> 30680
A15: 5 Pomoći | B15: =B16 -> 70360 | C15: =C16 -> 0 | D15: =D16 -> 70360
A16: 05 Pomoći | B16: 70360 | D16: =B16+C16 -> 70360
A17: 6 Donacije | B17: =B18 -> 30 | C17: =C18 -> 0 | D17: =D18 -> 30
A18: 06 Donacije | B18: 30 | D18: =B18+C18 -> 30
A21: RASHODI POSLOVANJA PREMA IZVORIMA FINANCIRANJA
A23: Brojčana oznaka i naziv | B23: Plan za 2025. | C23: Povećanje/smanjenje | D23: Novi PLAN za 2025.
A24: RASHODI UKUPNO | B24: =B25+B27+B29+B31 -> 230300 | C24: =C25+C27+C29+C31 -> 3000 | D24: =D25+D27+D29+D31 -> 233300
A25: 1 Opći prihodi i primici | B25: =B26 -> 129230 | C25: =C26 -> 3000 | D25: =D26 -> 132230
A26: 01 Opći prihodi i primici | B26: 129230 | C26: 3000 | D26: =B26+C26 -> 132230
A27: 4 Prihodi za posebne namjene | B27: =B28 -> 30680 | C27: =C28 -> 0 | D27: =D28 -> 30680
A28: 04 Prihodi za posebne namjene | B28: 30680 | D28: =B28+C28 -> 30680
A29: 5 Pomoći | B29: =B30 -> 70360 | C29: =C30 -> 0 | D29: =D30 -> 70360
A30: 05 Pomoći | B30: 70360 | D30: =B30+C30 -> 70360
A31: 6 Donacije | B31: =B32 -> 30 | C31: =C32 -> 0 | D31: =D32 -> 30
A32: 06 Donacije | B32: 30 | D32: =B32+C32 -> 30

Sheet Rashodi prema funkcijskoj kl
A1: I. IZMJENE FINANCIJSKOG PLANA DJEČJEG VRTIĆA BREGUNICA ZA 2025. GODINU
A3: I. OPĆI DIO
A5: A. RAČUN PRIHODA I RASHODA
A7: RASHODI PREMA FUNKCIJSKOJ KLASIFIKACIJI
A9: Brojčana oznaka i naziv | B9: Plan za 2025. | C9: Povećanje/ smanjenje | D9: Novi PLAN za 2025.
A10: UKUPNI RASHODI | B10: =B11 -> 230300 | C10: =C11 -> 3000 | D10: =D11 -> 233300
A11: 09 Obrazovanje | B11: =B12 -> 230300 | C11: =C12 -> 3000 | D11: =D12 -> 233300
A12: 091 Predškolsko i osnovno obrazovanje | B12: =B13 -> 230300 | C12: =C13 -> 3000 | D12: =D13 -> 233300
A13: 0911 Predškolsko obrazovanje | B13: =' Račun prihoda i rashoda'!D29 -> 230300 | C13: =' Račun prihoda i rashoda'!E29 -> 3000 | D13: =' Račun prihoda i rashoda'!F29 -> 233300

Sheet Račun financiranja
A1: I. IZMJENE FINANCIJSKOG PLANA DJEČJEG VRTIĆA BREGUNICA ZA 2025. GODINU
A3: I. OPĆI DIO
A5: B. RAČUN FINANCIRANJA PREMA EKONOMSKOJ KLASIFIKACIJI
A7: Razred | B7: Skupina | C7: Naziv | D7: Plan za 2025. | E7: Povećanje/ smanjenje | F7: Novi PLAN za 2025.
C8: PRIMICI UKUPNO
A9: 8 | C9: Primici od financijske imovine i zaduživanja
B10: 84 | C10: Primici od zaduživanja
C12: IZDACI UKUPNO
A13: 5 | C13: Izdaci za financijsku imovinu i otplate zajmova
B14: 54 | C14: Izdaci za otplatu glavnice primljenih kredita i zajmova

Sheet Račun financiranja po izvorima
A1: I. IZMJENE FINANCIJSKOG PLANA DJEČJEG VRTIĆA BREGUNICA ZA 2025. GODINU
A3: I. OPĆI DIO
A5: B. RAČUN FINANCIRANJA PREMA IZVORIMA FINANCIRANJA
A7: Brojčana oznaka i naziv | B7: Plan za 2025. | C7: Povećanje/ smanjenje | D7: Novi PLAN za 2025.
A8: PRIMICI UKUPNO
A9: 8 Namjenski primici od zaduživanja
A10: 81 Namjenski primici od zaduživanja
A12: IZDACI UKUPNO
A13: 1 Opći prihodi i primici
A14: 11 Opći prihodi i primici
A15: 3 Vlastiti prihodi
A16: 31 Vlastiti prihodi

Sheet POSEBNI DIO
A1: I. IZMJENE FINANCIJSKOG PLANA DJEČJEG VRTIĆA BREGUNICA ZA 2025. GODINU
A3: II. POSEBNI DIO
A5: Šifra | D5: Naziv | E5: Plan za 2025. | F5: Povećanje/ smanjenje | G5: Novi PLAN za 2025.
A6: 48015 | D6: Dječji vrtić Bregunica Novo Virje
A7: RAZDJELl 002 | D7: Jedinstveni upravni odjel
A8: GLAVA 00206 | D8: Javne potrebe u obrazovanju | E8: =E13 -> 230300 | F8: =F13 -> 3000 | G8: =G13 -> 233300
A9: Izvor financiranja: 01 | D9: Opći prihodi i primici | E9: =E15+E30 -> 129230 | F9: =F15 -> 0 | G9: =G15+G30 -> 132230
A10: Izvor financiranja: 04 | D10: Prihodi za posebne namjene | E10: =E19+E33 -> 30680 | F10: =F19+F33 -> 0 | G10: =G19+G33 -> 30680
A11: Izvor financiranja: 05 | D11: Pomoći | E11: =E23 -> 70360 | F11: =F23 -> 0 | G11: =G23 -> 70360
A12: Izvor financiranja: 06 | D12: Donacije | E12: =E27 -> 30 | F12: =F27 -> 0 | G12: =G27 -> 30
A13: PROGRAM 1011 | D13: Program Predškolskpg odgoja i obrazovanja | E13: =E14 -> 230300 | F13: =F14 -> 3000 | G13: =G14 -> 233300
A14: Aktivnost A101101 | D14: Predškolski odgoj DV "Bregunica" | E14: =E16+E20+E24+E28+E31+E34 -> 230300 | F14: =F16+F20+F24+F28+F31+F34 -> 3000 | G14: =G16+G20+G24+G28+G31+G34 -> 233300
A15: Izvor financiranja 01 | D15: Opći prihodi i primici | E15: =E16 -> 127230 | F15: =F16 -> 0 | G15: =G16 -> 127230
A16: 3 | D16: Rashodi poslovanja | E16: =E17+E18 -> 127230 | F16: =F17+F18 -> 0 | G16: =G17+G18 -> 127230
A17: 31 | D17: Rashodi za zaposlene | E17: 110060 | G17: =E17+F17 -> 110060
A18: 32 | D18: Materijalni rashodi | E18: 17170 | G18: =E18+F18 -> 17170
A19: Izvor financiranja 04 | D19: Prihodi za posebne namjene | E19: =E20 -> 30680 | F19: =F20 -> 0 | G19: =G20 -> 30680
A20: 3 | D20: Rashodi poslovanja | E20: =E21+E22 -> 30680 | F20: =F21+F22 -> 0 | G20: =G21+G22 -> 30680
A21: 32 | D21: Materijalni rashodi | E21: 29920 | G21: =E21+F21 -> 29920
A22: 34 | D22: Financijski rashodi | E22: 760 | G22: =E22+F22 -> 760
A23: Izvor financiranja 05 | D23: Pomoći | E23: =E24 -> 70360 | F23: =F24 -> 0 | G23: =G24 -> 70360
A24: 3 | D24: Rashodi poslovanja | E24: =E25+E26 -> 70360 | F24: =F25+F26 -> 0 | G24: =G25+G26 -> 70360
A25: 31 | D25: Rashodi za zaposlene | E25: 70000 | G25: =E25+F25 -> 70000
A26: 32 | D26: Materijalni rashodi | E26: 360 | G26: =E26+F26 -> 360
A27: Izvor financiranja 06 | D27: Donacije | E27: =E28 -> 30 | F27: =F28 -> 0 | G27: =G28 -> 30
A28: 3 | D28: Rashodi poslovanja | E28: =E29 -> 30 | F28: =F29 -> 0 | G28: =G29 -> 30
A29: 32 | D29: Materijalni rashodi | E29: 30 | G29: =E29+F29 -> 30
A30: Izvor financiranja 01 | D30: Opći prihodi i primici | E30: =E31 -> 2000 | F30: =F31 -> 3000 | G30: =G31 -> 5000
A31: 4 | D31: Rashodi za nabavu nefinancijske imovine | E31: =E32 -> 2000 | F31: =F32 -> 3000 | G31: =G32 -> 5000
A32: 42 | D32: Rashodi za nabsavu proizvedene dugotrajne imovine | E32: 2000 | F32: 3000 | G32: =E32+F32 -> 5000
A33: Izvor financiranja 04 | D33: Prihodi za posebne namjene | E33: =E34 -> 0 | F33: =F34 -> 0 | G33: =G34 -> 0
A34: 4 | D34: Rashodi za nabavu nefinancijske imovine | E34: =E35 -> 0 | F34: =F35 -> 0 | G34: =G35 -> 0
A35: 42 | D35: Rashodi za nabsavu proizvedene dugotrajne imovine | G35: =E35+F35 -> 0
A39: Članak 2.
A41: Procijenjeni preneseni manjak prihoda poslovanja iz prethodne godine iznosi 8.679,34 eura i u cijelosti se planira pokriti u slijedećoj proračunskoj 2025. godini. Sukladno navedenom, vrtić nije u obvezi postupiti po članku 37. Zakona o proračunu ( Narodne novine 144/21.) u svezi izrade višegodišnjeg plana uratvoteženja.
A43: Članak 3.
A45: I. Izmjene financijskog plana smatra se usvojenim ako ga Upravno vijeće Dječjeg vrtića "Bregunica" donese većinom glasova, uz suglasnost Općinskog vijeća Općine Novo Virje i pod uvjetom da je isti sadržan u Proračunu Općine Novo Virje za 2025. godinu i projekcijama za 2026. i 2027. godinu.
A47: Članak 4.
A49: Obrazloženje I. Izmjena Financijskog plana Dječjeg vrtića "Bregunica" Novo Virje za 2025. godinu čini sastavni dio ovog Financijskog plana.
A51: III. ZAVRŠNA ODREDBA
...

Sheet List2
