Workbook

Sheet SAŽETAK
A1: Na temelju članka 30. Pravilnika o polugodišnjem i godišnjem izvještaju o izvršenju proračuna i financijskog plana ("Narodne Novine" broj 85/23), i članka 54. Satatuta Dječjeg vrtića Bregunica Novo Virje, Upravno vijeće Dječjeg vrtića Bregunica na 21. sjednici održanoj 24.srpnja 2024. godine donijelo je
A3: POLUGODIŠNJI IZVJEŠTAJ O IZVRŠENJU FINANCIJSKOG PLANA DJEČJEG VRTIĆA BREGUNICA ZA 2024. GODINU
A5: I. OPĆI DIO
A7: Članak 1.
A9: A) SAŽETAK RAČUNA PRIHODA I RASHODA
J10: EUR
A11: BROJČANA OZNAKA I NAZIV | F11: OSTVARENJE/IZVRŠENJE 01.01.-30.06.2023.* | G11: FINANCIJSKI PLAN 2024. | H11: OSTVARENJE/IZVRŠENJE 01.01.-30.06.2024.* | I11: INDEKS | J11: INDEKS**
A12: 1 | F12: 2 | G12: 3 | H12: 4 | I12: 5=4/2*100 | J12: 6=4/3*100
A13: PRIHODI UKUPNO | F13: =F14+F15 -> 71469.04 | G13: =G14+G15 -> 184215.29 | H13: =H14+H15 -> 80688.28 | I13: =I14+I15 -> 112.89963 | J13: =J14+J15 -> 43.801076
A14: 6 PRIHODI POSLOVANJA | F14: =' Račun prihoda i rashoda'!F10 -> 71469.04 | G14: =' Račun prihoda i rashoda'!G10 -> 184215.29 | H14: =' Račun prihoda i rashoda'!H10 -> 80688.28 | I14: =H14/F14*100 -> 112.89963 | J14: =H14/G14*100 -> 43.801076
A15: 7 PRIHODI OD PRODAJE NEFINANCIJSKE IMOVINE | F15: 0 | G15: 0 | H15: 0
A16: RASHODI UKUPNO | F16: =F17+F18 -> 72442.37 | G16: =G17+G18 -> 176091 | H16: =H17+H18 -> 79491.02 | I16: =I17+I18 -> 109.73001 | J16: =J17+J18 -> 45.660614
A17: 3 RASHODI POSLOVANJA | F17: =' Račun prihoda i rashoda'!F29 -> 72442.37 | G17: =' Račun prihoda i rashoda'!G29 -> 174091 | H17: =' Račun prihoda i rashoda'!H29 -> 79491.02 | I17: =H17/F17*100 -> 109.73001 | J17: =H17/G17*100 -> 45.660614
A18: 4 RASHODI ZA NABAVU NEFINANCIJSKE IMOVINE | F18: =' Račun prihoda i rashoda'!F68 -> 0 | G18: =' Račun prihoda i rashoda'!G68 -> 2000 | H18: =' Račun prihoda i rashoda'!H68 -> 0 | J18: =H18/G18*100 -> 0
A19: RAZLIKA - VIŠAK / MANJAK | F19: =F13-F16 -> -973.33 | G19: =G13-G16 -> 8124.29 | H19: =H13-H16 -> 1197.26 | I19: =I13-I16 -> 3.1696174 | J19: =J13-J16 -> -1.8595378
A21: B) SAŽETAK RAČUNA FINANCIRANJA
F23: OSTVARENJE/IZVRŠENJE 01.01.-30.06.2023.* | G23: FINANCIJSKI PLAN 2024. | H23: OSTVARENJE/IZVRŠENJE 01.01.-30.06.2024.* | I23: INDEKS | J23: INDEKS**
A24: 8 PRIMICI OD FINANCIJSKE IMOVINE I ZADUŽIVANJA
A25: 5 IZDACI ZA FINANCIJSKU IMOVINU I OTPLATE ZAJMOVA
A26: NETO FINANCIRANJE | F26: =F24-F25 -> 0 | G26: =G24-G25 -> 0 | H26: =H24-H25 -> 0 | I26: =I24-I25 -> 0 | J26: =J24-J25 -> 0
A27: VIŠAK / MANJAK + NETO FINANCIRANJE | F27: =F19+F26 -> -973.33 | G27: =G19+G26 -> 8124.29 | H27: =H19+H26 -> 1197.26 | I27: =I19+I26 -> 3.1696174 | J27: =J19+J26 -> -1.8595378
A29: C) PRENESENI VIŠAK ILI PRENESENI MANJAK
F31: OSTVARENJE/IZVRŠENJE 01.01.-30.06.2023.* | G31: FINANCIJSKI PLAN 2024. | H31: OSTVARENJE/IZVRŠENJE 01.01.-30.06.2024.* | I31: INDEKS | J31: INDEKS**
A32: PRIJENOS VIŠKA / MANJKA IZ PRETHODNE(IH) GODINE | F32: -9468.16 | G32: -8124.29 | H32: -8679.34 | I32: 0 | J32: 0
A33: PRIJENOS VIŠKA / MANJKA U SLJEDEĆE RAZDOBLJE | H33: =H27+H32 -> -7482.08 | I33: =I27+I32 -> 3.1696174 | J33: =J27+J32 -> -1.8595378
A34: VIŠAK / MANJAK + NETO FINANCIRANJE + PRIJENOS VIŠKA / MANJKA IZ PRETHODNE(IH) GODINE - PRIJENOS VIŠKA / MANJKA U SLJEDEĆE RAZDOBLJE | F34: =F19+F26+F32-F33 -> -10441.49 | G34: =G19+G26+G32-G33 -> 8.1854523e-12 | H34: =H19+H26+H32-H33 -> 0 | I34: =I19+I26+I32-I33 -> 0 | J34: =J19+J26+J32-J33 -> 0
A38: D) VIŠEGODIŠNJI PLAN URAVNOTEŽENJA
F40: OSTVARENJE/IZVRŠENJE 01.01.-30.06.2023.* | G40: FINANCIJSKI PLAN 2024. | H40: OSTVARENJE/IZVRŠENJE 01.01.-30.06.2024.* | I40: INDEKS | J40: INDEKS**
A41: PRIJENOS VIŠKA / MANJKA IZ PRETHODNE(IH) GODINE | F41: 0 | G41: =F44 -> 0 | H41: =G44 -> 0 | I41: =H44 -> 0 | J41: =I44 -> 0
A42: VIŠAK / MANJAK IZ PRETHODNE(IH) GODINE KOJI ĆE SE RASPOREDITI / POKRITI | F42: 0 | G42: 0 | H42: 0 | I42: 0 | J42: 0
A43: VIŠAK / MANJAK TEKUĆE GODINE | F43: 0 | G43: 0 | H43: 0 | I43: 0 | J43: 0
A44: PRIJENOS VIŠKA / MANJKA U SLJEDEĆE RAZDOBLJE | F44: =F41-F42+F43 -> 0 | G44: =G41-G42+G43 -> 0 | H44: =H41-H42+H43 -> 0 | I44: =I41-I42+I43 -> 0 | J44: =J41-J42+J43 -> 0

Sheet  Račun prihoda i rashoda
A1: Članak 2.
A3: RAČUN PRIHODA I RASHODA
A5: IZVJEŠTAJ O PRIHODIMA I RASHODIMA PREMA EKONOMSKOJ KLASIFIKACIJI
A7: BROJČANA OZNAKA I NAZIV | F7: OSTVARENJE/IZVRŠENJE 01.01.-30.06.2023.* | G7: FINANCIJSKI PLAN 2024. | H7: OSTVARENJE/IZVRŠENJE 01.01.-30.06.2024.* | I7: INDEKS | J7: INDEKS**
A8: 1 | F8: 2 | G8: 3 | H8: 4 | I8: 5=4/2*100 | J8: 6=4/3*100
E9: UKUPNI PRIHODI | F9: =F10 -> 71469.04 | G9: =G10 -> 184215.29 | H9: =H10 -> 80688.28 | I9: =H9/F9*100 -> 112.89963 | J9: =H9/G9*100 -> 43.801076
A10: 6 | E10: Prihodi poslovanja | F10: =F19+F11+F14 -> 71469.04 | G10: =G19+G11+G14+G17 -> 184215.29 | H10: =H19+H11+H14 -> 80688.28 | I10: =H10/F10*100 -> 112.89963 | J10: =H10/G10*100 -> 43.801076
B11: 63 | E11: Pomoći iz inozemstva i od subjekata unutar općeg proračuna | F11: =F12 -> 54 | G11: =G12 -> 324 | H11: =H12 -> 97.2 | I11: =H11/F11*100 -> 180 | J11: =H11/G11*100 -> 30
C12: 636 | E12: Pomoći proračunskim korisnicima iz proračuna koji im nije nadležan | F12: =F13 -> 54 | G12: 324 | H12: =H13 -> 97.2 | I12: =H12/F12*100 -> 180 | J12: =H12/G12*100 -> 30
D13: 6361 | E13: Tekuće pomoći iz državnog proračuna proračunskim korisnicima proračuna JLP®S | F13: 54 | G13: 324 | H13: 97.2 | I13: =H13/F13*100 -> 180 | J13: =H13/G13*100 -> 30
B14: 65 | E14: Prihodi pd upravnih i administrativnih pristojbi, pristojbi po posemnim propisima i naknada | F14: =F15 -> 13279.61 | G14: =G15 -> 26000 | H14: =H15 -> 14197.24 | J14: =H14/G14*100 -> 54.604769
C15: 652 | E15: Prihodi po posebnim propisima | F15: =F16 -> 13279.61 | G15: 26000 | H15: =H16 -> 14197.24 | J15: =H15/G15*100 -> 54.604769
D16: 6526 | E16: Ostali nespomenuti prihodi | F16: 13279.61 | G16: 26000 | H16: 14197.24 | J16: =H16/G16*100 -> 54.604769
B17: 66 | E17: Prihodi od donacija | G17: =G18 -> 30 | H17: =H18 -> 0 | J17: =H17/G17*100 -> 0
C18: 663 | E18: Donacija | G18: 30 | H18: 0 | J18: =H18/G18*100 -> 0
B19: 67 | E19: Prihodi iz nadležnog proračuna i od HZZO-a temeljem ugovornih obvaza | F19: =F20 -> 58135.43 | G19: =G20 -> 157861.29 | H19: =H20 -> 66393.84 | I19: =H19/F19*100 -> 114.20547 | J19: =H19/G19*100 -> 42.058341
C20: 671 | E20: Prihodi iz nadležnog proračuna za financiranje redovne djelatnosti proračunskih korisnika | F20: =F21+F22 -> 58135.43 | G20: =G21 -> 157861.29 | H20: =H21+H22 -> 66393.84 | I20: =H20/F20*100 -> 114.20547 | J20: =H20/G20*100 -> 42.058341
D21: 6711 | E21: Prihodi iz nadležnog proračuna za financiranje rashoda poslovanja | F21: 58135.43 | G21: 157861.29 | H21: 66393.84 | I21: =H21/F21*100 -> 114.20547 | J21: =H21/G21*100 -> 42.058341
D22: 6712 | E22: Prihodi iz nadležnog proračuna za financiranje rashoda za nabavu nefinancijske imovine
A26: BROJČANA OZNAKA I NAZIV | F26: OSTVARENJE/IZVRŠENJE 01.01.-30.06.2023.* | G26: FINANCIJSKI PLAN 2024. | H26: OSTVARENJE/IZVRŠENJE 01.01.-30.06.2024.* | I26: INDEKS | J26: INDEKS**
A27: 1 | F27: 2 | G27: 3 | H27: 4 | I27: 5=4/2*100 | J27: 6=4/3*100
E28: UKUPNI RASHODI | F28: =F29 -> 72442.37 | G28: =G29+G68 -> 176091 | H28: =H29+H68 -> 79491.02 | I28: =H28/F28*100 -> 109.73001 | J28: =H28/G28*100 -> 45.142012
A29: 3 | E29: Rashodi poslovanja | F29: =F30+F37+F65 -> 72442.37 | G29: =G30+G37+G65 -> 174091 | H29: =H30+H37+H65 -> 79491.02 | I29: =H29/F29*100 -> 109.73001 | J29: =H29/G29*100 -> 45.660614
B30: 31 | E30: Rashodi za zaposlene | F30: =F31+F35+F33 -> 53527.48 | G30: 134370 | H30: =H31+H35+H33 -> 61856.1 | I30: =H30/F30*100 -> 115.55952 | J30: =H30/G30*100 -> 46.034159
C31: 311 | E31: Plaće (Bruto) | F31: =F32 -> 44276.05 | H31: =H32 -> 51292.83 | I31: =H31/F31*100 -> 115.8478
D32: 3111 | E32: Plaće za redovan rad | F32: 44276.05 | H32: 51292.83 | I32: =H32/F32*100 -> 115.8478
C33: 312 | E33: Ostali rashodi za zaposlene | F33: =F34 -> 2786.64 | H33: =H34 -> 2100 | I33: =H33/F33*100 -> 75.359573
D34: 3121 | E34: Ostali rashodi za zaposlene | F34: 2786.64 | H34: 2100 | I34: =H34/F34*100 -> 75.359573
C35: 313 | E35: Doprinosi na plaće | F35: =F36 -> 6464.79 | H35: =H36 -> 8463.27 | I35: =H35/F35*100 -> 130.9133
D36: 3132 | E36: Doprinosi za zdravstveno osiguranje | F36: 6464.79 | H36: 8463.27 | I36: =H36/F36*100 -> 130.9133
B37: 32 | E37: Materijalni rashodi | F37: =F38+F43+F50+F59 -> 18606.95 | G37: 39011 | H37: =H38+H43+H50+H59 -> 17294.03 | I37: =H37/F37*100 -> 92.943927 | J37: =H37/G37*100 -> 44.331163
C38: 321 | E38: Naknade troškova zaposlenima | F38: =F40+F41+F42+F39 -> 3061.59 | H38: =H40+H41+H42+H39 -> 2850.8 | I38: =H38/F38*100 -> 93.115015
D39: 3211 | E39: Službena putovanja | F39: 313.24 | H39: 304.2
D40: 3212 | E40: Naknade za prijevoz na posao | F40: 2282.22 | H40: 2341.22 | I40: =H40/F40*100 -> 102.5852
D41: 3213 | E41: Stručno usavršavanje | F41: 267.95 | H41: 45 | I41: =H41/F41*100 -> 16.794178
D42: 3214 | E42: Naknada za korištenje privatnog automobila u službene svrhe | F42: 198.18 | H42: 160.38 | I42: =H42/F42*100 -> 80.926431
C43: 322 | E43: Rashodi za materijal i energiju | F43: =F44+F45+F46+F47+F48 -> 9877.67 | H43: =H44+H45+H46+H47+H48+H49 -> 11136.45 | I43: =H43/F43*100 -> 112.74369
D44: 3221 | E44: Uredski materijal i ostali materijalni rashodi | F44: 1501.16 | H44: 1661.75 | I44: =H44/F44*100 -> 110.69773
D45: 3222 | E45: Materijal i sirovine | F45: 4956.19 | H45: 6279.58 | I45: =H45/F45*100 -> 126.70176
D46: 3223 | E46: Energija | F46: 3047.72 | H46: 2696.99 | I46: =H46/F46*100 -> 88.492053
D47: 3224 | E47: Materijal i dijelovi za tekuće i investicijsko održavanje
D48: 3225 | E48: Sitni inventar i auto gume | F48: 372.6 | H48: 498.13 | I48: =H48/F48*100 -> 133.69028
D49: 3227 | E49: Službena, radna i zaštitna odjeća i obuća
C50: 323 | E50: Rashodi za usluge | F50: =F51+F52+F54+F56+F57+F53+F55+F58 -> 4638.38 | H50: =H51+H52+H54+H56+H57+H58+H53+H55 -> 2902.13 | I50: =H50/F50*100 -> 62.56775
D51: 3231 | E51: Usluge telefona, pošte i prijevoza | F51: 279.71 | H51: 217.71 | I51: =H51/F51*100 -> 77.834185
D52: 3232 | E52: Usluge tekućeg i investicijskog održavanja | F52: 2122.71 | H52: 986.56 | I52: =H52/F52*100 -> 46.476438
D53: 3233 | E53: Promidžba i informiranje | F53: 59.98 | I53: =H53/F53*100 -> 0
D54: 3234 | E54: Komunalne usluge | F54: 733.41 | H54: 922.34 | I54: =H54/F54*100 -> 125.76049
D55: 3235 | E55: Zakupnine i najamnine | F55: 50 | H55: 50 | I55: =H55/F55*100 -> 100
D56: 3236 | E56: Zdravstvene i veterinarske usluge | F56: 839.31 | H56: 725.52 | I56: =H56/F56*100 -> 86.442435
D57: 3237 | E57: Intelektualne i osobne usluge | F57: 88.26 | I57: =H57/F57*100 -> 0
D58: 3239 | E58: Ostale usluge | F58: 465
C59: 329 | E59: Ostali nespomenuti rashodi poslovanja | F59: =F61+F63+F62 -> 1029.31 | H59: =H61+H63+H62+H64+H60 -> 404.65 | I59: =H59/F59*100 -> 39.312743
D60: 3292 | E60: Premija osiguranja | H60: 320.94
D61: 3293 | E61: Reprezentacija | F61: 996.13 | H61: 83.71 | I61: =H61/F61*100 -> 8.4035216
D62: 3294 | E62: Članarine
D63: 3295 | E63: Pristojbe i naknade | F63: 33.18 | I63: =H63/F63*100 -> 0
D64: 3299 | E64: Ostali nespomenuti rashodi poslovanja
B65: 34 | E65: Financijski rashodi | F65: =F66 -> 307.94 | G65: 710 | H65: =H66 -> 340.89 | I65: =H65/F65*100 -> 110.70014 | J65: =H65/G65*100 -> 48.012676
C66: 343 | E66: Ostali financijski rashodi | F66: =F67 -> 307.94 | H66: =H67 -> 340.89 | I66: =H66/F66*100 -> 110.70014
D67: 3431 | E67: Bankarske usluge i usluge platnog prometa | F67: 307.94 | H67: 340.89 | I67: =H67/F67*100 -> 110.70014
A68: 4 | E68: Rashodi za nabavu nefinancijske imovine | G68: =G69 -> 2000 | H68: =H69 -> 0 | J68: =H68/G68*100 -> 0
B69: 42 | E69: Rashodi za nabavu proizvedene dugotrajne imovine | F69: =F70 -> 0 | G69: 2000 | H69: =H70 -> 0 | J69: =H69/G69*100 -> 0
C70: 422 | E70: Postrojenja i oprema | F70: =F71+F72 -> 0 | H70: =H71+H72 -> 0
D71: 4221 | E71: Uredska oprema i namještaj
D72: 4227 | E72: Uređaji, strojevi i oprema za ostale namjene

Sheet izvori financiranja
A1: Članak 3.
A3: IZVJEŠTAJ O PRIHODIMA I RASHODIMA PREMA IZVORIMA FINANCIRANJA
A5: BROJČANA OZNAKA I NAZIV | B5: OSTVARENJE/IZVRŠENJE 01.01.-30.06.2023.* | C5: FINANCIJSKI PLAN 2024. | D5: OSTVARENJE/IZVRŠENJE 01.01.-30.06.2024.* | E5: INDEKS | F5: INDEKS**
A6: 1 | B6: 2 | C6: 3 | D6: 4 | E6: 5=4/2*100 | F6: 6=4/3*100
A7: UKUPNO PRIHODI | B7: =B8+B11+B14 -> 71469.04 | C7: =C8+C11+C14+C17 -> 184215.29 | D7: =D8+D11+D14+D17 -> 80688.28 | E7: =D7/B7*100 -> 112.89963 | F7: =D7/C7*100 -> 43.801076
A8: 1 Opći prihodi i primici | B8: =B9 -> 58135.43 | C8: =C9 -> 157861.29 | D8: =D9 -> 66393.84 | E8: =D8/B8*100 -> 114.20547 | F8: =D8/C8*100 -> 42.058341
A9: 01 Opći prihodi i primici | B9: 58135.43 | C9: 157861.29 | D9: 66393.84 | E9: =D9/B9*100 -> 114.20547 | F9: =D9/C9*100 -> 42.058341
A11: 4 Prihodi za posebne namjene | B11: =B12 -> 13279.61 | C11: =C12 -> 26000 | D11: =D12 -> 14197.24 | E11: =D11/B11*100 -> 106.91007 | F11: =D11/C11*100 -> 54.604769
A12: 04 Prihodi za posebne namjene | B12: 13279.61 | C12: 26000 | D12: 14197.24 | E12: =D12/B12*100 -> 106.91007 | F12: =D12/C12*100 -> 54.604769
A14: 5 Pomoći | B14: =B15 -> 54 | C14: =C15 -> 324 | D14: =D15 -> 97.2 | E14: =D14/B14*100 -> 180 | F14: =D14/C14*100 -> 30
A15: 05 Pomoći | B15: 54 | C15: 324 | D15: 97.2 | E15: =D15/B15*100 -> 180 | F15: =D15/C15*100 -> 30
A17: 6 Donacije | C17: =C18 -> 30 | D17: =D18 -> 0 | F17: =D17/C17*100 -> 0
A18: 06 Donacije | C18: 30 | D18: 0 | F18: =D18/C18*100 -> 0
A20: UKUPNO RASHODI | B20: =B21+B24+B27 -> 72442.37 | C20: =C21+C24+C27+C30 -> 176091 | D20: =D21+D24+D27+D30 -> 79491.02 | E20: =D20/B20*100 -> 109.73001 | F20: =D20/C20*100 -> 45.142012
A21: 1 Opći prihodi i primici | B21: =B22 -> 58135.43 | C21: =C22 -> 149737 | D21: =D22 -> 66393.84 | E21: =D21/B21*100 -> 114.20547 | F21: =D21/C21*100 -> 44.340303
A22: 01 Opći prihodi i primici | B22: 58135.43 | C22: 149737 | D22: 66393.84 | E22: =D22/B22*100 -> 114.20547 | F22: =D22/C22*100 -> 44.340303
A24: 4 Prihodi za posebne namjene | B24: =B25 -> 14096.56 | C24: =C25 -> 26000 | D24: =D25 -> 12998.61 | E24: =D24/B24*100 -> 92.21122 | F24: =D24/C24*100 -> 49.994654
A25: 04 Prihodi za posebne namjene | B25: 14096.56 | C25: 26000 | D25: 12998.61 | E25: =D25/B25*100 -> 92.21122 | F25: =D25/C25*100 -> 49.994654
A27: 5 Pomoći | B27: =B28 -> 210.38 | C27: =C28 -> 324 | D27: =D28 -> 98.57 | E27: =D27/B27*100 -> 46.853313 | F27: =D27/C27*100 -> 30.42284
A28: 05 Pomoći | B28: 210.38 | C28: 324 | D28: 98.57 | E28: =D28/B28*100 -> 46.853313 | F28: =D28/C28*100 -> 30.42284
A30: 6 Donacije | C30: =C31 -> 30 | D30: =D31 -> 0 | F30: =D30/C30*100 -> 0
A31: 06 Donacije | C31: 30 | D31: 0 | F31: =D31/C31*100 -> 0

Sheet Rashodi prema funkcijskoj kl
A1: Članak 4.
A3: IZVJEŠTAJ RASHODA PREMA FUNKCIJSKOJ KLASIFIKACIJI
A5: Brojčana oznaka i naziv | B5: OSTVARENJE/IZVRŠENJE 01.01.-30.06.2023.* | C5: FINANCIJSKI PLAN 2024. | D5: OSTVARENJE/IZVRŠENJE 01.01.-30.06.2024.* | E5: INDEKS | F5: INDEKS**
A6: 1 | B6: 2 | C6: 3 | D6: 4 | E6: 5=4/2*100 | F6: 6=4/3*100
A7: UKUPNI RASHODI | B7: =B8 -> 72442.37 | C7: =C8 -> 176091 | D7: =D8 -> 79491.02 | E7: =E8 -> 109.73001 | F7: =F8 -> 45.142012
A8: 09 Obrazovanje | B8: =B9 -> 72442.37 | C8: =C9 -> 176091 | D8: =D9 -> 79491.02 | E8: =E9 -> 109.73001 | F8: =F9 -> 45.142012
A9: 091 Predškolsko i osnovno obrazovanje | B9: =B10 -> 72442.37 | C9: =C10 -> 176091 | D9: =D10 -> 79491.02 | E9: =E10 -> 109.73001 | F9: =F10 -> 45.142012
A10: 0911 Predškolsko obrazovanje | B10: 72442.37 | C10: 176091 | D10: 79491.02 | E10: =D10/B10*100 -> 109.73001 | F10: =D10/C10*100 -> 45.142012

Sheet Račun financiranja
A1: Članak 5.
A3: RAČUN FINANCIRANJA
A4: IZVJEŠTAJ RAČUNA FINANCIRANJA PREMA EKONOMSKOJ KLASIFIKACIJI
A6: BROJČANA OZNAKA I NAZIV | F6: OSTVARENJE/IZVRŠENJE 01.01.-30.06.2023.* | G6: FINANCIJSKI PLAN 2024. | H6: OSTVARENJE/IZVRŠENJE 01.01.-30.06.2024.* | I6: INDEKS | J6: INDEKS**
A7: 1 | F7: 2 | G7: 3 | H7: 4 | I7: 5=4/2*100 | J7: 6=4/3*100
A8: 8 | E8: Primici od financijske imovine i zaduživanja | F8: 0 | G8: 0 | H8: 0 | I8: 0 | J8: 0
B9: 84 | E9: Primici od zaduživanja
C10: 841 | E10: Primljeni krediti i zajmovi od međunarodnih organizacija, institucija i tijela EU te inozemnih vlada
D11: 8413 | E11: Primljeni zajmovi od međunarodnih organizacija
A13: 5 | E13: Izdaci za financijsku imovinu i otplate zajmova | F13: 0 | G13: 0 | H13: 0 | I13: 0 | J13: 0
B14: 54 | E14: Izdaci za otplatu glavnice primljenih kredita i zajmova
C15: 541 | E15: Otplata glavnice primljenih kredita i zajmova od međunarodnih organizacija, institucija i tijela EU te inozemnih vlada
D16: 5413 | E16: Otplata glavnice primljenih zajmova od međunarodnih organizacija

Sheet račun financiranja prema izvori
A1: Članak 6.
A3: IZVJEŠTAJ RAČUNA FINANCIRANJA PREMA IZVORIMA FINANCIRANJA
A5: BROJČANA OZNAKA I NAZIV | B5: OSTVARENJE/IZVRŠENJE 01.01.-30.06.2023.* | C5: FINANCIJSKI PLAN 2024. | D5: OSTVARENJE/IZVRŠENJE 01.01.-30.06.2024.* | E5: INDEKS | F5: INDEKS**
A6: 1 | B6: 2 | C6: 3 | D6: 4 | E6: 5=4/2*100 | F6: 6=4/3*100
A7: UKUPNO PRIMICI | B7: 0 | C7: 0 | D7: 0 | E7: 0 | F7: 0
A8: 1 Opći prihodi i primici
A9: 01 Opći prihodi i primici
A11: 3 Vlastiti prihodi
A12: 03 Vlastiti prihodi
A14: 5 Pomoći
A15: 05 Pomoći
A18: UKUPNO IZDACI | B18: 0 | C18: 0 | D18: 0 | E18: 0 | F18: 0
A19: 1 Opći prihodi i primici
A20: 01 Opći prihodi i primici
A22: 3 Vlastiti prihodi
A23: 03 Vlastiti prihodi
A25: 5 Pomoći
A26: 05 Pomoći

Sheet POSEBNI DIO
A1: Članak 7.
A3: II. POSEBNI DIO
A5: IZVJEŠTAJ PO PROGRAMSKOJ KLASIFIKACIJI
A7: BROJČANA OZNAKA I NAZIV | E7: FINANCIJSKI PLAN 2024. | F7: OSTVARENJE/IZVRŠENJE 01.01.-30.06.2024. | G7: INDEKS**
A8: 1 | E8: 2 | F8: 3 | G8: 4=3/2*100
A9: 48015 | D9: Dječji vrtić Bregunica Novo Virje
A10: Program 1011 | D10: Predškolski odgoj
A11: A101101 | D11: Redovan rad Dječjeg vrtića Bregunica Novo Virje
A12: 00206 | D12: Glava 00206 Odgoj i obrazovanje
A13: 3 i 4 | D13: Ukupno rashodi | E13: =E14+E43 -> 176091 | F13: =F14+F43 -> 79491.02 | G13: =F13/E13*100 -> 45.142012
A14: 3 | D14: Rashodi poslovanja | E14: =E16+E24+E41 -> 174091 | F14: =F16+F24+F41 -> 79491.02 | G14: =F14/E14*100 -> 45.660614
A15: 01 | D15: Opći prihodi i primici | E15: =E16 -> 134370 | F15: =F16 -> 61856.1 | G15: =F15/E15*100 -> 46.034159
A16: 31 | D16: Rashodi za zaposlene | E16: 134370 | F16: =F17+F18+F19 -> 61856.1 | G16: =F16/E16*100 -> 46.034159
A17: 3111 | D17: Plaće za redovan rad | F17: 51292.83
A18: 3121 | D18: Ostali rashodi za zaposlene | F18: 2100
A19: 3132 | D19: Doprinosi za obvezno zdravstveno osiguranje | F19: 8463.27
A20: 06 | D20: Donacije | E20: 30
A21: 05 | D21: Pomoći | E21: 324 | F21: 98.57 | G21: =F21/E21*100 -> 30.42284
A22: 04 | D22: Prihodi za posebne namjene | E22: 23290 | F22: 12657.72 | G22: =F22/E22*100 -> 54.348304
A23: 01 | D23: Opći prihodi i primici | E23: 15367 | F23: 4537.74 | G23: =F23/E23*100 -> 29.529121
A24: 32 | D24: Materijalni rashodi | E24: 39011 | F24: =F25+F26+F27+F28+F29+F30+F31+F32+F33+F34+F35+F37+F38+F39+F36 -> 17294.03 | G24: =F24/E24*100 -> 44.331163
A25: 3211 | D25: Službena putovanja | F25: 304.2
A26: 3212 | D26: Naknade za prijevoz na posao | F26: 2341.22
A27: 3213 | D27: Stručno usavršavanje | F27: 45
A28: 3214 | D28: Naknada za korištenje privatnog automobila u službene svrhe | F28: 160.38
A29: 3221 | D29: Uredski materijal i ostali materijalni rashodi | F29: 1661.75
A30: 3222 | D30: Materijal i sirovine | F30: 6279.58
A31: 3223 | D31: Energija | F31: 2696.99
A32: 3225 | D32: Sitni inventar i auto gume | F32: 498.13
A33: 3231 | D33: Usluge telefona, pošte i prijevoza | F33: 217.71
A34: 3232 | D34: Usluge tekućeg i investicijskog održavanja | F34: 986.56
A35: 3234 | D35: Komunalne usluge | F35: 922.34
A36: 3235 | D36: Zakupnine i najamnine | F36: 50
A37: 3236 | D37: Zdravstvene i veterinarske usluge | F37: 725.52
A38: 3292 | D38: Premije osiguranja | F38: 320.94
A39: 3293 | D39: Reprezentacija | F39: 83.71
A40: 04 | D40: Prihodi za posebne namjene | E40: =E41 -> 710 | F40: 340.89 | G40: =F40/E40*100 -> 48.012676
A41: 34 | D41: Financijski rashodi | E41: 710 | F41: =F42 -> 340.89 | G41: =F41/E41*100 -> 48.012676
A42: 3431 | D42: Bankarske usluge i usluge platnog prometa | F42: 340.89
A43: 4 | D43: Rashodi za nabavu nefinancijske imovine | E43: =E45 -> 2000 | F43: =F45 -> 0 | G43: =F43/E43*100 -> 0
A44: 04 | D44: Prihodi za posebne namjene | E44: =E45 -> 2000 | F44: =F45 -> 0 | G44: =F44/E44*100 -> 0
A45: 42 | D45: Rashodi za nabavu proizvedene dugotrajne imovine | E45: 2000 | F45: =F46+F47 -> 0 | G45: =F45/E45*100 -> 0
A46: 4221 | D46: Uredska oprema i namještaj
A47: 4227 | D47: Uređaji, strojevi i oprema za ostale namjene

Sheet obrazloženje
A1: Članak 8.
A3: Obrazloženje općeg dijela izvještaja o izvršenju financijskog plana
A5: Ukupni prihodi poslovanja u periodu od 1. siječnja do 30. lipnja ostvareni su u iznosu 80.688,28 eura ili 43,80 % od Plana.
A6: Ukupni rashodi poslovanja u periodu 1. siječnja do 30. lipnja ostvareni su u iznosu 79.491,02 eura ili 45,66 % od Plana.
A7: Rashodi za nabavu nefinancijske imovine ostvareni su u iznosu 0,00.
A9: Preneseni manjak iz prethodne godine iznosi 8.679,34 eura.
A10: Ostvaren je višak prihoda i primitaka za pokriće manjka u slijedećem razdoblju u iznosu 1.197,26 eura.
A12: Članak 9.
A14: Obrazloženje ostvarenja prihoda i rashoda, primitaka i izdataka
A16: Od ukupno ostvarenih prihoda najzastupljeniji su prihodi od nadležnog proračuna u iznosu 66.393,84 eura koji su utrošeni financiranje rashoda poslovanja. Prihodi po posebnim propisima ostvareni su u iznosu 14.197,24 eura i odnose se na uplate roditelja za smještaj djece u dječjem vrtiću. Od strane državnog proračuna je sufinancirano 97,20 eura za provođenje programa male škole.
A20: Od ukupno ostvarenih rashoda najzastupljeniji su rashodi za zaposlene u iznosu 61.856,10 eura te materijalni rashodi u iznosu 17.294,03 eura koji se odnose na naknade troškova zaposlenima, rashode za materijal i energiju, usluge, ostale nespomenute rashode poslovanja te financijski rashodi.
A24: Stanje novčanih sredstava na početku izvještajnog razdoblja je 1.079,27 eura, ukupni priljevi na novčane račune su bili u iznosu 80.854,38 eura. Ukupni odljevi s novčanih računa su bili u iznosu 77.106,68 eura, dok je stanje novčanih sredstava na kraju izvještajnog razdoblja 4.826,97eura.
... A95: URBROJ: 2137-94-24-2
A96: Novo Virje, 24. srpanja 2024. | K96: Predsjednik Upravnog vijeća:
K97: Baruškin Ivan
